BEGIN:VCALENDAR
VERSION:2.0
PRODID:-//Godalming Town Council - ECPv6.15.20//NONSGML v1.0//EN
CALSCALE:GREGORIAN
METHOD:PUBLISH
X-WR-CALNAME:Godalming Town Council
X-ORIGINAL-URL:https://godalming-tc.gov.uk
X-WR-CALDESC:Events for Godalming Town Council
REFRESH-INTERVAL;VALUE=DURATION:PT1H
X-Robots-Tag:noindex
X-PUBLISHED-TTL:PT1H
BEGIN:VTIMEZONE
TZID:UTC
BEGIN:STANDARD
TZOFFSETFROM:+0000
TZOFFSETTO:+0000
TZNAME:UTC
DTSTART:20190101T000000
END:STANDARD
END:VTIMEZONE
BEGIN:VEVENT
DTSTART;TZID=UTC:20201114T183000
DTEND;TZID=UTC:20201114T191000
DTSTAMP:20260421T133335
CREATED:20180103T100559Z
LAST-MODIFIED:20230710T104328Z
UID:25376-1605378600-1605381000@godalming-tc.gov.uk
SUMMARY:Conservatoire Concerts - The Show Goes On!
DESCRIPTION:Conservatoire Concerts will go on! \nConservatoire Concerts offer you another online Baroque concert this Saturday\, 21November\, at 8.30pm (please note later start time) on our website. Callum Anderson (continuo)\, Merce Bruguera Abello (mezzosoprano) and Maxim Del Mar (violin) will be performing arias by JS Bach\, Purcell\, Handel and Vivaldi including Handel’s Violin Sonata in G Minor. \nIf you would like to support these musicians visit our website where you can leave a contribution. \nWe hope you can join us. \n \nFor more details\, please contact Suzanne Cacciottolo on 07940013314 or email Su*****************@***il.com \n 
URL:https://godalming-tc.gov.uk/event/conservatoire-concerts-the-show-goes-on-21-11-20-3/
CATEGORIES:Concerts
ATTACH;FMTTYPE=image/jpeg:https://godalming-tc.gov.uk/wp-content/uploads/2019/05/Logo-Conservatoire-Concerts-e1556892318495.jpg
ORGANIZER;CN="Suzanne Cacciottolo":MAILTO:suzanne.cacciottolo@gmail.com
END:VEVENT
END:VCALENDAR