BEGIN:VCALENDAR
VERSION:2.0
PRODID:-//Godalming Town Council - ECPv6.15.20//NONSGML v1.0//EN
CALSCALE:GREGORIAN
METHOD:PUBLISH
X-ORIGINAL-URL:https://godalming-tc.gov.uk
X-WR-CALDESC:Events for Godalming Town Council
REFRESH-INTERVAL;VALUE=DURATION:PT1H
X-Robots-Tag:noindex
X-PUBLISHED-TTL:PT1H
BEGIN:VTIMEZONE
TZID:UTC
BEGIN:STANDARD
TZOFFSETFROM:+0000
TZOFFSETTO:+0000
TZNAME:UTC
DTSTART:20200101T000000
END:STANDARD
END:VTIMEZONE
BEGIN:VEVENT
DTSTART;TZID=UTC:20210522T190000
DTEND;TZID=UTC:20210522T210000
DTSTAMP:20260421T144436
CREATED:20180103T100559Z
LAST-MODIFIED:20221122T094415Z
UID:10000882-1621710000-1621717200@godalming-tc.gov.uk
SUMMARY:Conservatoire Concert
DESCRIPTION:Conservatoire Concerts presents Duo Furioso featuring Helena Svigelj and Urska Horvat (cellists) on Saturday\, 22 May 2021 at 7.00pm at the St John’s Church\, Farncombe\, GU7 3EJ. \nThe programme includes: \nDomenico Gabrielli: Canon in D Major\nJean Baptiste Barriere: Sonata for two Cellos in G Major\, No. 10\nCamille Saint-Saens: The Swan from Carnival of the Animals\nDavid Popper: Suite for two Cellos\, Op. 16\nJacques Offenback: Duo for two Cellos Op. 52\, No. 3\nFrederic Borsarello: Tango Triste \nPlease note that a face covering is to be worn for all those attending the concert. \nDue to the restrictions in capacity booking is highly advisable via our website or by emailing Su*****************@***il.com or calling Suzanne Cacciottolo on 07940 013314. \nFree Admission \nRetiring Collection will be held towards musicians’ fees and expenses. \n 
URL:https://godalming-tc.gov.uk/event/conservatoire-concert-22-05-2021-2/
LOCATION:Church of St John the Evangelist\, St Johns Street\, Farncombe\, Surrey\, GU7 3EJ
CATEGORIES:Concerts
ATTACH;FMTTYPE=image/jpeg:https://godalming-tc.gov.uk/wp-content/uploads/2019/05/Logo-Conservatoire-Concerts-e1556892318495.jpg
ORGANIZER;CN="Suzanne Cacciottolo":MAILTO:suzanne.cacciottolo@gmail.com
GEO:51.1951063;-0.6041738
X-APPLE-STRUCTURED-LOCATION;VALUE=URI;X-ADDRESS=Church of St John the Evangelist St Johns Street Farncombe Surrey GU7 3EJ;X-APPLE-RADIUS=500;X-TITLE=St Johns Street:geo:-0.6041738,51.1951063
END:VEVENT
BEGIN:VEVENT
DTSTART;TZID=UTC:20210522T190000
DTEND;TZID=UTC:20210522T210000
DTSTAMP:20260421T144436
CREATED:20180103T100559Z
LAST-MODIFIED:20221122T094929Z
UID:10000923-1621710000-1621717200@godalming-tc.gov.uk
SUMMARY:Conservatoire Concert
DESCRIPTION:Conservatoire Concerts presents Duo Furioso featuring Helena Svigelj and Urska Horvat (cellists) on Saturday\, 22 May 2021 at 7.00pm at the St John’s Church\, Farncombe\, GU7 3EJ. \nThe programme includes: \nDomenico Gabrielli: Canon in D Major\nJean Baptiste Barriere: Sonata for two Cellos in G Major\, No. 10\nCamille Saint-Saens: The Swan from Carnival of the Animals\nDavid Popper: Suite for two Cellos\, Op. 16\nJacques Offenback: Duo for two Cellos Op. 52\, No. 3\nFrederic Borsarello: Tango Triste \nPlease note that a face covering is to be worn for all those attending the concert. \nDue to the restrictions in capacity booking is highly advisable via our website or by emailing Su*****************@***il.com or calling Suzanne Cacciottolo on 07940 013314. \nFree Admission \nRetiring Collection will be held towards musicians’ fees and expenses.
URL:https://godalming-tc.gov.uk/event/conservatoire-concert-22-05-2021/
LOCATION:Church of St John the Evangelist\, St Johns Street\, Farncombe\, Surrey\, GU7 3EJ
CATEGORIES:Concerts
ATTACH;FMTTYPE=image/jpeg:https://godalming-tc.gov.uk/wp-content/uploads/2019/05/Logo-Conservatoire-Concerts-e1556892318495.jpg
ORGANIZER;CN="Suzanne Cacciottolo":MAILTO:suzanne.cacciottolo@gmail.com
GEO:51.1951063;-0.6041738
X-APPLE-STRUCTURED-LOCATION;VALUE=URI;X-ADDRESS=Church of St John the Evangelist St Johns Street Farncombe Surrey GU7 3EJ;X-APPLE-RADIUS=500;X-TITLE=St Johns Street:geo:-0.6041738,51.1951063
END:VEVENT
END:VCALENDAR