BEGIN:VCALENDAR
VERSION:2.0
PRODID:-//Godalming Town Council - ECPv6.15.20//NONSGML v1.0//EN
CALSCALE:GREGORIAN
METHOD:PUBLISH
X-WR-CALNAME:Godalming Town Council
X-ORIGINAL-URL:https://godalming-tc.gov.uk
X-WR-CALDESC:Events for Godalming Town Council
REFRESH-INTERVAL;VALUE=DURATION:PT1H
X-Robots-Tag:noindex
X-PUBLISHED-TTL:PT1H
BEGIN:VTIMEZONE
TZID:Europe/London
BEGIN:DAYLIGHT
TZOFFSETFROM:+0000
TZOFFSETTO:+0100
TZNAME:BST
DTSTART:20250330T010000
END:DAYLIGHT
BEGIN:STANDARD
TZOFFSETFROM:+0100
TZOFFSETTO:+0000
TZNAME:GMT
DTSTART:20251026T010000
END:STANDARD
BEGIN:DAYLIGHT
TZOFFSETFROM:+0000
TZOFFSETTO:+0100
TZNAME:BST
DTSTART:20260329T010000
END:DAYLIGHT
BEGIN:STANDARD
TZOFFSETFROM:+0100
TZOFFSETTO:+0000
TZNAME:GMT
DTSTART:20261025T010000
END:STANDARD
BEGIN:DAYLIGHT
TZOFFSETFROM:+0000
TZOFFSETTO:+0100
TZNAME:BST
DTSTART:20270328T010000
END:DAYLIGHT
BEGIN:STANDARD
TZOFFSETFROM:+0100
TZOFFSETTO:+0000
TZNAME:GMT
DTSTART:20271031T010000
END:STANDARD
END:VTIMEZONE
BEGIN:VEVENT
DTSTART;TZID=Europe/London:20260423T183000
DTEND;TZID=Europe/London:20260423T190000
DTSTAMP:20260423T012241
CREATED:20241129T163415Z
LAST-MODIFIED:20260415T082046Z
UID:10003025-1776969000-1776970800@godalming-tc.gov.uk
SUMMARY:Environment & Planning Committee - Meeting Cancelled
DESCRIPTION:[vc_row][vc_column][vc_column_text css=”” css_params=””] \nThis meeting has been cancelled. \nA committee meeting will be held to address and formulate policy for consideration by the Council to discharge the Council’s functions relating to the local environment and infrastructure. The agenda will be published the Monday before the meeting on our agendas and minutes page. \n  \n  \n  \n[/vc_column_text][/vc_column][/vc_row]
URL:https://godalming-tc.gov.uk/event/environment-planning-committee-23-april-2026/
LOCATION:Council Chamber\, The Burys\, Godalming\, GU7 1HR\, United Kingdom
CATEGORIES:Council Meetings,Environment & Planning Committee
ATTACH;FMTTYPE=image/jpeg:https://godalming-tc.gov.uk/wp-content/uploads/2022/12/GTC-Crest-Colour-Large.jpg
ORGANIZER;CN="Godalming Town Council":MAILTO:office@godalming-tc.gov.uk
GEO:51.1875002;-0.6101009
X-APPLE-STRUCTURED-LOCATION;VALUE=URI;X-ADDRESS=Council Chamber The Burys Godalming GU7 1HR United Kingdom;X-APPLE-RADIUS=500;X-TITLE=The Burys:geo:-0.6101009,51.1875002
END:VEVENT
BEGIN:VEVENT
DTSTART;TZID=Europe/London:20260423T183000
DTEND;TZID=Europe/London:20260423T190000
DTSTAMP:20260423T012241
CREATED:20241203T122746Z
LAST-MODIFIED:20260415T090602Z
UID:10003408-1776969000-1776970800@godalming-tc.gov.uk
SUMMARY:Policy & Management Committee
DESCRIPTION:[vc_row][vc_column][vc_column_text css=”” css_params=””] \nA committee meeting to consider matters relating to Town Council policy and the council’s resources. The agenda will be published the Monday before the meeting on our agendas and minutes page. \n  \n  \n[/vc_column_text][/vc_column][/vc_row]
URL:https://godalming-tc.gov.uk/event/policy-management-committee-23-april-2026/
LOCATION:Council Chamber\, The Burys\, Godalming\, GU7 1HR\, United Kingdom
CATEGORIES:Council Meetings,Policy & Management Committee
ATTACH;FMTTYPE=image/jpeg:https://godalming-tc.gov.uk/wp-content/uploads/2022/12/GTC-Crest-Colour-Large.jpg
ORGANIZER;CN="Godalming Town Council":MAILTO:office@godalming-tc.gov.uk
GEO:51.1875002;-0.6101009
X-APPLE-STRUCTURED-LOCATION;VALUE=URI;X-ADDRESS=Council Chamber The Burys Godalming GU7 1HR United Kingdom;X-APPLE-RADIUS=500;X-TITLE=The Burys:geo:-0.6101009,51.1875002
END:VEVENT
BEGIN:VEVENT
DTSTART;TZID=Europe/London:20260423T190000
DTEND;TZID=Europe/London:20260423T200000
DTSTAMP:20260423T012241
CREATED:20260415T090800Z
LAST-MODIFIED:20260416T125311Z
UID:10004098-1776970800-1776974400@godalming-tc.gov.uk
SUMMARY:Full Council - Extraordinary
DESCRIPTION:[vc_row][vc_column][vc_column_text css=”” css_params=””] \nAn extraordinary meeting of Godalming Town Council – a formal meeting to accept and ratify reports from each of the Council’s Committees. \n  \n  \n[/vc_column_text][/vc_column][/vc_row]
URL:https://godalming-tc.gov.uk/event/full-council-extraordinary-3/
LOCATION:Council Chamber\, The Burys\, Godalming\, GU7 1HR\, United Kingdom
CATEGORIES:Council Meetings,Policy & Management Committee
ATTACH;FMTTYPE=image/jpeg:https://godalming-tc.gov.uk/wp-content/uploads/2022/12/GTC-Crest-Colour-Large.jpg
ORGANIZER;CN="Godalming Town Council":MAILTO:office@godalming-tc.gov.uk
GEO:51.1875002;-0.6101009
X-APPLE-STRUCTURED-LOCATION;VALUE=URI;X-ADDRESS=Council Chamber The Burys Godalming GU7 1HR United Kingdom;X-APPLE-RADIUS=500;X-TITLE=The Burys:geo:-0.6101009,51.1875002
END:VEVENT
BEGIN:VEVENT
DTSTART;TZID=Europe/London:20260423T193000
DTEND;TZID=Europe/London:20260423T213000
DTSTAMP:20260423T012241
CREATED:20260409T095554Z
LAST-MODIFIED:20260413T085258Z
UID:10004039-1776972600-1776979800@godalming-tc.gov.uk
SUMMARY:Godalming Orchestra - Weekly Rehearsals
DESCRIPTION:[vc_row][vc_column][vc_column_text css=”” css_params=””]Godalming Orchestra holds weekly rehearsals on Thursdays at the Godalming United Church\, Bridge Road\, Godalming GU7 3DU \nThe orchestra performs three times a year and has a challenging symphonic repertoire.  Grade 6 and above. \nBiscuits provided at rehearsals! \nVincent Godfrey is the Music Director and Conductor. \nPlease contact via email if interested – go****************@***oo.com[/vc_column_text][/vc_column][/vc_row]
URL:https://godalming-tc.gov.uk/event/godalming-orchestra-weekly-rehearsals/2026-04-23/
LOCATION:Godalming United Church\, Bridge Road \, Godalming\, GU7 3DU\, United Kingdom
CATEGORIES:Live Music
ATTACH;FMTTYPE=image/jpeg:https://godalming-tc.gov.uk/wp-content/uploads/2026/04/Logo-Godalming-Orchestra.jpg
ORGANIZER;CN="Godalming Orchestra":MAILTO:godalmingorchestra@yahoo.com
GEO:51.1889882;-0.6076303
X-APPLE-STRUCTURED-LOCATION;VALUE=URI;X-ADDRESS=Godalming United Church Bridge Road  Godalming GU7 3DU United Kingdom;X-APPLE-RADIUS=500;X-TITLE=Bridge Road:geo:-0.6076303,51.1889882
END:VEVENT
END:VCALENDAR