BEGIN:VCALENDAR
VERSION:2.0
PRODID:-//Godalming Town Council - ECPv6.15.20//NONSGML v1.0//EN
CALSCALE:GREGORIAN
METHOD:PUBLISH
X-WR-CALNAME:Godalming Town Council
X-ORIGINAL-URL:https://godalming-tc.gov.uk
X-WR-CALDESC:Events for Godalming Town Council
REFRESH-INTERVAL;VALUE=DURATION:PT1H
X-Robots-Tag:noindex
X-PUBLISHED-TTL:PT1H
BEGIN:VTIMEZONE
TZID:Europe/London
BEGIN:DAYLIGHT
TZOFFSETFROM:+0000
TZOFFSETTO:+0100
TZNAME:BST
DTSTART:20250330T010000
END:DAYLIGHT
BEGIN:STANDARD
TZOFFSETFROM:+0100
TZOFFSETTO:+0000
TZNAME:GMT
DTSTART:20251026T010000
END:STANDARD
BEGIN:DAYLIGHT
TZOFFSETFROM:+0000
TZOFFSETTO:+0100
TZNAME:BST
DTSTART:20260329T010000
END:DAYLIGHT
BEGIN:STANDARD
TZOFFSETFROM:+0100
TZOFFSETTO:+0000
TZNAME:GMT
DTSTART:20261025T010000
END:STANDARD
BEGIN:DAYLIGHT
TZOFFSETFROM:+0000
TZOFFSETTO:+0100
TZNAME:BST
DTSTART:20270328T010000
END:DAYLIGHT
BEGIN:STANDARD
TZOFFSETFROM:+0100
TZOFFSETTO:+0000
TZNAME:GMT
DTSTART:20271031T010000
END:STANDARD
END:VTIMEZONE
BEGIN:VEVENT
DTSTART;TZID=Europe/London:20260425T140000
DTEND;TZID=Europe/London:20260425T160000
DTSTAMP:20260425T013807
CREATED:20260204T140926Z
LAST-MODIFIED:20260204T140926Z
UID:10004003-1777125600-1777132800@godalming-tc.gov.uk
SUMMARY:Godalming's Living Wall
DESCRIPTION:[vc_row][vc_column][vc_column_text css=”” css_params=””]The walls of the Denningberg Centre are to be festooned with plants.  Plants to support wildlife\, to clean the air and to please the eye. \nShare our thanks to Godalming Town Council  for funding the wall and to Waverley Borough Council for allowing us to use the wall for this attractive and beneficial project. \nFree to attend. \nRefreshments available. \n[/vc_column_text][/vc_column][/vc_row]
URL:https://godalming-tc.gov.uk/event/godalmings-living-wall/
LOCATION:The Denningberg Centre\, Bridge Street\, Godalming\, Surrey\, GU7 1HP\, United Kingdom
CATEGORIES:Free
ATTACH;FMTTYPE=image/jpeg:https://godalming-tc.gov.uk/wp-content/uploads/2026/01/Logo-What-Next-Web-Event-New-i-scaled.jpg
GEO:51.186279;-0.6098409
X-APPLE-STRUCTURED-LOCATION;VALUE=URI;X-ADDRESS=The Denningberg Centre Bridge Street Godalming Surrey GU7 1HP United Kingdom;X-APPLE-RADIUS=500;X-TITLE=Bridge Street:geo:-0.6098409,51.186279
END:VEVENT
BEGIN:VEVENT
DTSTART;TZID=Europe/London:20260425T190000
DTEND;TZID=Europe/London:20260425T210000
DTSTAMP:20260425T013807
CREATED:20260416T073753Z
LAST-MODIFIED:20260416T073753Z
UID:10004100-1777143600-1777150800@godalming-tc.gov.uk
SUMMARY:Conservatoire Concert
DESCRIPTION:[vc_row][vc_column][vc_column_text css=”” css_params=””] \nConservatoire Concerts presents La Belle  Epoque Violin and Piano duo on Saturday\, 25 April 2026 at 7.00pm at the Godalming Baptist Church\, Queen Street\, Godalming GU7 1BA. \nThe evening will feature Joel Munday (violin) and Julian Trevelyan (piano) who will perform works by Faure\, Boulanger\, Poulenc\, Ravel and more. \nFestive refreshments. \nFor booking and more details please visit our website  \nFree Admission \nRetiring Collection towards musicians’ fees and expenses. \n \n[/vc_column_text][/vc_column][/vc_row]
URL:https://godalming-tc.gov.uk/event/conservatoire-concert-27/
LOCATION:Godalming Baptist Church\, Queen Street\, Godalming\, Surrey\, GU7 1BA\, United Kingdom
CATEGORIES:Concerts
ATTACH;FMTTYPE=image/png:https://godalming-tc.gov.uk/wp-content/uploads/2024/02/Logo-Conservatoire-Concert-Feb-2024.png
ORGANIZER;CN="Suzanne Cacciottolo":MAILTO:suzanne.cacciottolo@gmail.com
GEO:51.1853415;-0.611291
X-APPLE-STRUCTURED-LOCATION;VALUE=URI;X-ADDRESS=Godalming Baptist Church Queen Street Godalming Surrey GU7 1BA United Kingdom;X-APPLE-RADIUS=500;X-TITLE=Queen Street:geo:-0.611291,51.1853415
END:VEVENT
END:VCALENDAR