BEGIN:VCALENDAR
VERSION:2.0
PRODID:-//Godalming Town Council - ECPv6.15.20//NONSGML v1.0//EN
CALSCALE:GREGORIAN
METHOD:PUBLISH
X-ORIGINAL-URL:https://godalming-tc.gov.uk
X-WR-CALDESC:Events for Godalming Town Council
REFRESH-INTERVAL;VALUE=DURATION:PT1H
X-Robots-Tag:noindex
X-PUBLISHED-TTL:PT1H
BEGIN:VTIMEZONE
TZID:Europe/London
BEGIN:DAYLIGHT
TZOFFSETFROM:+0000
TZOFFSETTO:+0100
TZNAME:BST
DTSTART:20250330T010000
END:DAYLIGHT
BEGIN:STANDARD
TZOFFSETFROM:+0100
TZOFFSETTO:+0000
TZNAME:GMT
DTSTART:20251026T010000
END:STANDARD
BEGIN:DAYLIGHT
TZOFFSETFROM:+0000
TZOFFSETTO:+0100
TZNAME:BST
DTSTART:20260329T010000
END:DAYLIGHT
BEGIN:STANDARD
TZOFFSETFROM:+0100
TZOFFSETTO:+0000
TZNAME:GMT
DTSTART:20261025T010000
END:STANDARD
BEGIN:DAYLIGHT
TZOFFSETFROM:+0000
TZOFFSETTO:+0100
TZNAME:BST
DTSTART:20270328T010000
END:DAYLIGHT
BEGIN:STANDARD
TZOFFSETFROM:+0100
TZOFFSETTO:+0000
TZNAME:GMT
DTSTART:20271031T010000
END:STANDARD
END:VTIMEZONE
BEGIN:VEVENT
DTSTART;TZID=Europe/London:20260620T133000
DTEND;TZID=Europe/London:20260620T160000
DTSTAMP:20260423T215324
CREATED:20260113T114012Z
LAST-MODIFIED:20260113T114719Z
UID:10003983-1781962200-1781971200@godalming-tc.gov.uk
SUMMARY:Relaxed Film Screening 2026
DESCRIPTION:[vc_row][vc_column][vc_column_text css=”” css_params=””] \n\nThe Godalming Relaxed Cinema Club replaces the Relaxed Cinema in Godalming and is a dementia-friendly club for those that like film as well as for people who find the usual cinema-going process challenging. \nThis volunteer-led activity is made possible with the generous support of: Godalming Film Society and Godalming Town Council and many donors. \nScreenings are held approximately monthly in the Caudle Hall\, Wilfrid Noyce C entre in Godalming.  They are held on a Saturday afternoon and light refreshments are provided. \nClub membership and access to each screening is free of charge.  Club members are informed well in advance what films will be shown. \nDoors open at 1.30 pm screening starts at 2.15 pm \nIf you are interested to become a member of this film club and to see the film programme\, please register an enquiry in the form below or email go********************@*****ok.com for more information. \nScreening dates in 2026 are: \n17 January\, 21 February\, 21 March\, 18 April\, 9 May\, 20 June\, 18 July\, 15 August\, 19 September\, 17 October\, 21 November and 19 December \n [/vc_column_text][/vc_column][/vc_row][vc_row][vc_column][vc_separator][vc_column_text css=”” css_params=””] \nGODALMING RELAXED CINEMA CLUB – MEMBERSHIP ENQUIRY FORM\n[/vc_column_text]\n\n  \n\n\n\n\n\nYour Name *\n \n\nYour Email *\n \n\nYour Phone Number *\n \n\nYour Message\n \n\nPLEASE NOTE:  When you press the Submit Event button a notification will appear further down to notify you that your form has been successfully sent or whether you need to add further information.  This notification can take up to a minute to appear; please be patient.  Please scroll down to see it.\n\n* Field is required\n\n \n\n\n[/vc_column][/vc_row]
URL:https://godalming-tc.gov.uk/event/relaxed-film-screening-2026/2026-06-20/
LOCATION:Wilfrid Noyce Centre\, Crown Court Car Park\, Godalming\, GU7 1DY\, United Kingdom
CATEGORIES:Charity,Community Benefit
ATTACH;FMTTYPE=image/png:https://godalming-tc.gov.uk/wp-content/uploads/2025/01/Logo-Godalming-Relaxed-Cinema-Club.png
ORGANIZER;CN="Godalming Town Council":MAILTO:office@godalming-tc.gov.uk
GEO:51.1866829;-0.6126768
X-APPLE-STRUCTURED-LOCATION;VALUE=URI;X-ADDRESS=Wilfrid Noyce Centre Crown Court Car Park Godalming GU7 1DY United Kingdom;X-APPLE-RADIUS=500;X-TITLE=Crown Court Car Park:geo:-0.6126768,51.1866829
END:VEVENT
BEGIN:VEVENT
DTSTART;TZID=Europe/London:20260627T140000
DTEND;TZID=Europe/London:20260627T170000
DTSTAMP:20260423T215324
CREATED:20260420T111031Z
LAST-MODIFIED:20260420T111031Z
UID:10004102-1782568800-1782579600@godalming-tc.gov.uk
SUMMARY:Busbridge Open Gardens 2026
DESCRIPTION:[vc_row][vc_column][vc_column_text css=”” css_params=””]The first Busbridge Open Gardens was held in June 2017 and then subsequently in June 2022. The idea was the brainchild of Gill Morris\, Busbridge resident and keen gardener – since the first event\, the open gardens has grown into a very popular and successful community weekend. \nThe event began as a small local initiative to raise funds for local charities. Visitors follow a trail of gardens to suit their own interests. Over two summer afternoons they can explore a variety of gardens and enjoy refreshments and plant stalls along the way. The event has grown into a well-loved tradition that brings the community together and provides the opportunity to meet the gardeners who maintain their spaces. \nThe gardens offer a variety of inspiring spaces that range from small traditional cottage gardens to larger landscaped areas. Whatever the plot size\, there is something for everyone – with courtyard art-inspired gardens\, a rewilded space and even a stepped garden with stunning views. New gardens have joined up each year that the event has run. \nOver time\, Busbridge Open Gardens has grown in popularity and now raises significant funds for local charities and community projects. It also provides a chance for neighbours to work together in organising the day\, strengthening the sense of community within Busbridge. \nThis year the Open Gardens will be held on Saturday\, 27 and Sunday\, 28 June from 2pm-5pm each day. \nTickets cost £5 each and can be purchased from the Busbridge Open Gardens‘ website.[/vc_column_text][/vc_column][/vc_row]
URL:https://godalming-tc.gov.uk/event/busbridge-open-gardens-2026/2026-06-27/
LOCATION:Various
CATEGORIES:Charity,Community Benefit
ATTACH;FMTTYPE=image/png:https://godalming-tc.gov.uk/wp-content/uploads/2026/04/Busbridge-Open-Gardens.png
END:VEVENT
BEGIN:VEVENT
DTSTART;TZID=Europe/London:20260628T140000
DTEND;TZID=Europe/London:20260628T170000
DTSTAMP:20260423T215324
CREATED:20260420T111031Z
LAST-MODIFIED:20260420T111031Z
UID:10004103-1782655200-1782666000@godalming-tc.gov.uk
SUMMARY:Busbridge Open Gardens 2026
DESCRIPTION:[vc_row][vc_column][vc_column_text css=”” css_params=””]The first Busbridge Open Gardens was held in June 2017 and then subsequently in June 2022. The idea was the brainchild of Gill Morris\, Busbridge resident and keen gardener – since the first event\, the open gardens has grown into a very popular and successful community weekend. \nThe event began as a small local initiative to raise funds for local charities. Visitors follow a trail of gardens to suit their own interests. Over two summer afternoons they can explore a variety of gardens and enjoy refreshments and plant stalls along the way. The event has grown into a well-loved tradition that brings the community together and provides the opportunity to meet the gardeners who maintain their spaces. \nThe gardens offer a variety of inspiring spaces that range from small traditional cottage gardens to larger landscaped areas. Whatever the plot size\, there is something for everyone – with courtyard art-inspired gardens\, a rewilded space and even a stepped garden with stunning views. New gardens have joined up each year that the event has run. \nOver time\, Busbridge Open Gardens has grown in popularity and now raises significant funds for local charities and community projects. It also provides a chance for neighbours to work together in organising the day\, strengthening the sense of community within Busbridge. \nThis year the Open Gardens will be held on Saturday\, 27 and Sunday\, 28 June from 2pm-5pm each day. \nTickets cost £5 each and can be purchased from the Busbridge Open Gardens‘ website.[/vc_column_text][/vc_column][/vc_row]
URL:https://godalming-tc.gov.uk/event/busbridge-open-gardens-2026/2026-06-28/
LOCATION:Various
CATEGORIES:Charity,Community Benefit
ATTACH;FMTTYPE=image/png:https://godalming-tc.gov.uk/wp-content/uploads/2026/04/Busbridge-Open-Gardens.png
END:VEVENT
END:VCALENDAR