BEGIN:VCALENDAR
VERSION:2.0
PRODID:-//Godalming Town Council - ECPv6.15.20//NONSGML v1.0//EN
CALSCALE:GREGORIAN
METHOD:PUBLISH
X-ORIGINAL-URL:https://godalming-tc.gov.uk
X-WR-CALDESC:Events for Godalming Town Council
REFRESH-INTERVAL;VALUE=DURATION:PT1H
X-Robots-Tag:noindex
X-PUBLISHED-TTL:PT1H
BEGIN:VTIMEZONE
TZID:Europe/London
BEGIN:DAYLIGHT
TZOFFSETFROM:+0000
TZOFFSETTO:+0100
TZNAME:BST
DTSTART:20250330T010000
END:DAYLIGHT
BEGIN:STANDARD
TZOFFSETFROM:+0100
TZOFFSETTO:+0000
TZNAME:GMT
DTSTART:20251026T010000
END:STANDARD
BEGIN:DAYLIGHT
TZOFFSETFROM:+0000
TZOFFSETTO:+0100
TZNAME:BST
DTSTART:20260329T010000
END:DAYLIGHT
BEGIN:STANDARD
TZOFFSETFROM:+0100
TZOFFSETTO:+0000
TZNAME:GMT
DTSTART:20261025T010000
END:STANDARD
BEGIN:DAYLIGHT
TZOFFSETFROM:+0000
TZOFFSETTO:+0100
TZNAME:BST
DTSTART:20270328T010000
END:DAYLIGHT
BEGIN:STANDARD
TZOFFSETFROM:+0100
TZOFFSETTO:+0000
TZNAME:GMT
DTSTART:20271031T010000
END:STANDARD
END:VTIMEZONE
BEGIN:VEVENT
DTSTART;TZID=Europe/London:20260307T143000
DTEND;TZID=Europe/London:20260307T153000
DTSTAMP:20260421T150530
CREATED:20251212T102014Z
LAST-MODIFIED:20251212T102014Z
UID:10003755-1772893800-1772897400@godalming-tc.gov.uk
SUMMARY:Godalming Children's Choir - Spring Series
DESCRIPTION:[vc_row][vc_column][vc_column_text css=”” css_params=””] \nGodalming Children’s Choir\, a small friendly choir led by professional musicians\, will be starting it’s Spring Series of singing workshops starts on Saturday\, 10 January 2026 from 2.30pm-3.30pm at the United Church in Godalming. \nThree workshops each held on a Saturday afternoon (2.30-3.30pm) culminating in a performance on the 21 March (also starting at 2.30pm).  Children from ages 7-11+ are all welcome. \nThe dates for the spring series of workshops are: \nSaturday\, 10 January 2026Saturday\, 31 January 2026Saturday\, 7 March 2026Saturday\, 21 March 2026 (+ performance for friends and family)  \nThe choir offers a unique opportunity to: \n\nPerform as a choir\nDevelop self-confidence\nDevelop focus and listening skills\nHave fun singing together!\n\nFirst session FREE for newcomers!  Bring a friend! \nContact us on gc*@*****************rg.uk for more information. \n\n\n  \n[/vc_column_text][/vc_column][/vc_row]
URL:https://godalming-tc.gov.uk/event/godalming-childrens-choir-spring-series/2026-03-07/
LOCATION:Godalming United Church\, Bridge Road \, Godalming\, GU7 3DU\, United Kingdom
CATEGORIES:Children,Live Music
ATTACH;FMTTYPE=image/jpeg:https://godalming-tc.gov.uk/wp-content/uploads/2023/04/Logo-Godalming-Childrens-Choir-scaled.jpg
ORGANIZER;CN="Godalming Children's Choir":MAILTO:gcc@godalmingchoral.org.uk
GEO:51.1889882;-0.6076303
X-APPLE-STRUCTURED-LOCATION;VALUE=URI;X-ADDRESS=Godalming United Church Bridge Road  Godalming GU7 3DU United Kingdom;X-APPLE-RADIUS=500;X-TITLE=Bridge Road:geo:-0.6076303,51.1889882
END:VEVENT
BEGIN:VEVENT
DTSTART;TZID=Europe/London:20260321T143000
DTEND;TZID=Europe/London:20260321T160000
DTSTAMP:20260421T150530
CREATED:20251212T102014Z
LAST-MODIFIED:20251212T102014Z
UID:10003756-1774103400-1774108800@godalming-tc.gov.uk
SUMMARY:Godalming Children's Choir - Spring Series
DESCRIPTION:[vc_row][vc_column][vc_column_text css=”” css_params=””] \nGodalming Children’s Choir\, a small friendly choir led by professional musicians\, will be starting it’s Spring Series of singing workshops starts on Saturday\, 10 January 2026 from 2.30pm-3.30pm at the United Church in Godalming. \nThree workshops each held on a Saturday afternoon (2.30-3.30pm) culminating in a performance on the 21 March (also starting at 2.30pm).  Children from ages 7-11+ are all welcome. \nThe dates for the spring series of workshops are: \nSaturday\, 10 January 2026Saturday\, 31 January 2026Saturday\, 7 March 2026Saturday\, 21 March 2026 (+ performance for friends and family)  \nThe choir offers a unique opportunity to: \n\nPerform as a choir\nDevelop self-confidence\nDevelop focus and listening skills\nHave fun singing together!\n\nFirst session FREE for newcomers!  Bring a friend! \nContact us on gc*@*****************rg.uk for more information. \n\n\n  \n[/vc_column_text][/vc_column][/vc_row]
URL:https://godalming-tc.gov.uk/event/godalming-childrens-choir-spring-series/2026-03-21/
LOCATION:Godalming United Church\, Bridge Road \, Godalming\, GU7 3DU\, United Kingdom
CATEGORIES:Children,Live Music
ATTACH;FMTTYPE=image/jpeg:https://godalming-tc.gov.uk/wp-content/uploads/2023/04/Logo-Godalming-Childrens-Choir-scaled.jpg
ORGANIZER;CN="Godalming Children's Choir":MAILTO:gcc@godalmingchoral.org.uk
GEO:51.1889882;-0.6076303
X-APPLE-STRUCTURED-LOCATION;VALUE=URI;X-ADDRESS=Godalming United Church Bridge Road  Godalming GU7 3DU United Kingdom;X-APPLE-RADIUS=500;X-TITLE=Bridge Road:geo:-0.6076303,51.1889882
END:VEVENT
END:VCALENDAR