BEGIN:VCALENDAR
VERSION:2.0
PRODID:-//Godalming Town Council - ECPv6.15.20//NONSGML v1.0//EN
CALSCALE:GREGORIAN
METHOD:PUBLISH
X-WR-CALNAME:Godalming Town Council
X-ORIGINAL-URL:https://godalming-tc.gov.uk
X-WR-CALDESC:Events for Godalming Town Council
REFRESH-INTERVAL;VALUE=DURATION:PT1H
X-Robots-Tag:noindex
X-PUBLISHED-TTL:PT1H
BEGIN:VTIMEZONE
TZID:Europe/London
BEGIN:DAYLIGHT
TZOFFSETFROM:+0000
TZOFFSETTO:+0100
TZNAME:BST
DTSTART:20240331T010000
END:DAYLIGHT
BEGIN:STANDARD
TZOFFSETFROM:+0100
TZOFFSETTO:+0000
TZNAME:GMT
DTSTART:20241027T010000
END:STANDARD
BEGIN:DAYLIGHT
TZOFFSETFROM:+0000
TZOFFSETTO:+0100
TZNAME:BST
DTSTART:20250330T010000
END:DAYLIGHT
BEGIN:STANDARD
TZOFFSETFROM:+0100
TZOFFSETTO:+0000
TZNAME:GMT
DTSTART:20251026T010000
END:STANDARD
BEGIN:DAYLIGHT
TZOFFSETFROM:+0000
TZOFFSETTO:+0100
TZNAME:BST
DTSTART:20260329T010000
END:DAYLIGHT
BEGIN:STANDARD
TZOFFSETFROM:+0100
TZOFFSETTO:+0000
TZNAME:GMT
DTSTART:20261025T010000
END:STANDARD
END:VTIMEZONE
BEGIN:VEVENT
DTSTART;TZID=Europe/London:20250704T173000
DTEND;TZID=Europe/London:20250704T190000
DTSTAMP:20260421T092616
CREATED:20250625T132253Z
LAST-MODIFIED:20250625T132253Z
UID:10003617-1751650200-1751655600@godalming-tc.gov.uk
SUMMARY:Godalming in Bloom Annual Prizegiving
DESCRIPTION:All welcome to join the winners of this year’s Godalming in Bloom competition categories for the annual prize-giving taking place at the Wilfrid Noyce Centre\, Crown Court Car Park\, Godalming on Friday\, 4 July at 5.30pm \nGodalming in Bloom is coordinated each year by the Go Godalming Association and this year was sponsored by: \nCornmeter\nGodalming Funeral Service\nGodalming Town Council\nRussell’s Hedges & Tree Care Services\nSeymours\nSquires Garden Centres \nThe Star and Pizza Express also support our prize-giving evening.
URL:https://godalming-tc.gov.uk/event/godalming-in-bloom-annual-prizegiving/
LOCATION:Wilfrid Noyce Centre\, Crown Court Car Park\, Godalming\, GU7 1DY\, United Kingdom
CATEGORIES:Community Benefit
ATTACH;FMTTYPE=image/jpeg:https://godalming-tc.gov.uk/wp-content/uploads/2025/06/Logo-Godalming-in-Bloom-Web-Event.jpg
ORGANIZER;CN="Go Godalming Association":MAILTO:secretary@gogodalming.org.uk
GEO:51.1866829;-0.6126768
X-APPLE-STRUCTURED-LOCATION;VALUE=URI;X-ADDRESS=Wilfrid Noyce Centre Crown Court Car Park Godalming GU7 1DY United Kingdom;X-APPLE-RADIUS=500;X-TITLE=Crown Court Car Park:geo:-0.6126768,51.1866829
END:VEVENT
END:VCALENDAR