BEGIN:VCALENDAR
VERSION:2.0
PRODID:-//Godalming Town Council - ECPv6.15.20//NONSGML v1.0//EN
CALSCALE:GREGORIAN
METHOD:PUBLISH
X-ORIGINAL-URL:https://godalming-tc.gov.uk
X-WR-CALDESC:Events for Godalming Town Council
REFRESH-INTERVAL;VALUE=DURATION:PT1H
X-Robots-Tag:noindex
X-PUBLISHED-TTL:PT1H
BEGIN:VTIMEZONE
TZID:UTC
BEGIN:STANDARD
TZOFFSETFROM:+0000
TZOFFSETTO:+0000
TZNAME:UTC
DTSTART:20210101T000000
END:STANDARD
END:VTIMEZONE
BEGIN:VEVENT
DTSTART;TZID=UTC:20220901T183000
DTEND;TZID=UTC:20220901T191500
DTSTAMP:20260422T230203
CREATED:20220119T150119Z
LAST-MODIFIED:20220809T131419Z
UID:10002361-1662057000-1662059700@godalming-tc.gov.uk
SUMMARY:Environment & Planning Committee
DESCRIPTION:A committee meeting to address and formulate policy for consideration by the Council to discharge the Council’s functions relating to the local environment and infrastructure. The agenda will be published the Monday before the meeting on our agendas and minutes page.
URL:https://godalming-tc.gov.uk/event/environment-planning-committee-2022-09-01/
LOCATION:Council Chamber\, The Burys\, Godalming\, GU7 1HR\, United Kingdom
CATEGORIES:Council Meetings,Environment & Planning Committee
ATTACH;FMTTYPE=image/png:https://godalming-tc.gov.uk/wp-content/uploads/2022/01/GTC-Crest-web.png
GEO:51.1875002;-0.6101009
X-APPLE-STRUCTURED-LOCATION;VALUE=URI;X-ADDRESS=Council Chamber The Burys Godalming GU7 1HR United Kingdom;X-APPLE-RADIUS=500;X-TITLE=The Burys:geo:-0.6101009,51.1875002
END:VEVENT
BEGIN:VEVENT
DTSTART;TZID=UTC:20220901T191500
DTEND;TZID=UTC:20220901T200000
DTSTAMP:20260422T230203
CREATED:20220119T152947Z
LAST-MODIFIED:20220809T131529Z
UID:10002377-1662059700-1662062400@godalming-tc.gov.uk
SUMMARY:Policy & Management Committee
DESCRIPTION:A committee meeting to consider matters relating to Town Council policy and the council’s resources. The agenda will be published the Monday before the meeting on our agendas and minutes page.
URL:https://godalming-tc.gov.uk/event/policy-management-committee-2023-09-01/
LOCATION:Council Chamber\, The Burys\, Godalming\, GU7 1HR\, United Kingdom
CATEGORIES:Council Meetings,Policy & Management Committee
ATTACH;FMTTYPE=image/png:https://godalming-tc.gov.uk/wp-content/uploads/2022/01/GTC-Crest-web.png
ORGANIZER;CN="Godalming Town Council":MAILTO:office@godalming-tc.gov.uk
GEO:51.1875002;-0.6101009
X-APPLE-STRUCTURED-LOCATION;VALUE=URI;X-ADDRESS=Council Chamber The Burys Godalming GU7 1HR United Kingdom;X-APPLE-RADIUS=500;X-TITLE=The Burys:geo:-0.6101009,51.1875002
END:VEVENT
BEGIN:VEVENT
DTSTART;TZID=UTC:20220908T174500
DTEND;TZID=UTC:20220908T190000
DTSTAMP:20260422T230203
CREATED:20220119T160443Z
LAST-MODIFIED:20220119T160443Z
UID:10002394-1662659100-1662663600@godalming-tc.gov.uk
SUMMARY:Joint Burial Committee
DESCRIPTION:A meeting of the Committee that manages the town’s two cemeteries
URL:https://godalming-tc.gov.uk/event/joint-burial-committee-2022-09-08/
CATEGORIES:Council Meetings,Joint Burial Committee
ATTACH;FMTTYPE=image/jpeg:https://godalming-tc.gov.uk/wp-content/uploads/2020/05/Logo-JBC-Colour-e1588758722357.jpg
ORGANIZER;CN="Godalming Town Council":MAILTO:office@godalming-tc.gov.uk
END:VEVENT
BEGIN:VEVENT
DTSTART;TZID=UTC:20220915T183000
DTEND;TZID=UTC:20220915T191500
DTSTAMP:20260422T230203
CREATED:20220119T162804Z
LAST-MODIFIED:20220809T132237Z
UID:10002405-1663266600-1663269300@godalming-tc.gov.uk
SUMMARY:Staffing Committee
DESCRIPTION:A meeting of the committee responsible for making recommendations about staffing\, appointments and any other staff-related matters. Often a large part of the meeting is conducted in confidential session. The agenda for the meeting will be published the Monday before the meeting on our agendas and minutes page.
URL:https://godalming-tc.gov.uk/event/staffing-committee-2022-09-15/
LOCATION:The Pepperpot\, Church Street\, Godalming\, Surrey\, GU7 1DP
CATEGORIES:Council Meetings,Staffing Committee
ATTACH;FMTTYPE=image/png:https://godalming-tc.gov.uk/wp-content/uploads/2022/01/GTC-Crest-web.png
ORGANIZER;CN="Godalming Town Council":MAILTO:office@godalming-tc.gov.uk
GEO:51.1858353;-0.6156863
X-APPLE-STRUCTURED-LOCATION;VALUE=URI;X-ADDRESS=The Pepperpot Church Street Godalming Surrey GU7 1DP;X-APPLE-RADIUS=500;X-TITLE=Church Street:geo:-0.6156863,51.1858353
END:VEVENT
BEGIN:VEVENT
DTSTART;TZID=UTC:20220929T191500
DTEND;TZID=UTC:20220929T194500
DTSTAMP:20260422T230203
CREATED:20220119T161612Z
LAST-MODIFIED:20220922T111158Z
UID:10002399-1664478900-1664480700@godalming-tc.gov.uk
SUMMARY:Full Council
DESCRIPTION:A meeting of Godalming Town Council – a formal meeting to accept and ratify reports from each of the Council’s Committees.
URL:https://godalming-tc.gov.uk/event/full-council-2022-09-29/
LOCATION:Council Chamber\, The Burys\, Godalming\, GU7 1HR\, United Kingdom
CATEGORIES:Council Meetings
ATTACH;FMTTYPE=image/png:https://godalming-tc.gov.uk/wp-content/uploads/2022/01/GTC-Crest-web.png
GEO:51.1875002;-0.6101009
X-APPLE-STRUCTURED-LOCATION;VALUE=URI;X-ADDRESS=Council Chamber The Burys Godalming GU7 1HR United Kingdom;X-APPLE-RADIUS=500;X-TITLE=The Burys:geo:-0.6101009,51.1875002
END:VEVENT
BEGIN:VEVENT
DTSTART;TZID=UTC:20220929T194500
DTEND;TZID=UTC:20220929T203000
DTSTAMP:20260422T230203
CREATED:20220119T150217Z
LAST-MODIFIED:20221010T134251Z
UID:10002362-1664480700-1664483400@godalming-tc.gov.uk
SUMMARY:Environment & Planning Committee
DESCRIPTION:A committee meeting to address and formulate policy for consideration by the Council to discharge the Council’s functions relating to the local environment and infrastructure. The agenda will be published the Monday before the meeting on our agendas and minutes page.
URL:https://godalming-tc.gov.uk/event/environment-planning-committee-2022-09-29/
LOCATION:Council Chamber\, The Burys\, Godalming\, GU7 1HR\, United Kingdom
CATEGORIES:Council Meetings,Environment & Planning Committee
ATTACH;FMTTYPE=image/png:https://godalming-tc.gov.uk/wp-content/uploads/2022/01/GTC-Crest-web.png
GEO:51.1875002;-0.6101009
X-APPLE-STRUCTURED-LOCATION;VALUE=URI;X-ADDRESS=Council Chamber The Burys Godalming GU7 1HR United Kingdom;X-APPLE-RADIUS=500;X-TITLE=The Burys:geo:-0.6101009,51.1875002
END:VEVENT
END:VCALENDAR