BEGIN:VCALENDAR
VERSION:2.0
PRODID:-//Godalming Town Council - ECPv6.15.20//NONSGML v1.0//EN
CALSCALE:GREGORIAN
METHOD:PUBLISH
X-WR-CALNAME:Godalming Town Council
X-ORIGINAL-URL:https://godalming-tc.gov.uk
X-WR-CALDESC:Events for Godalming Town Council
REFRESH-INTERVAL;VALUE=DURATION:PT1H
X-Robots-Tag:noindex
X-PUBLISHED-TTL:PT1H
BEGIN:VTIMEZONE
TZID:UTC
BEGIN:STANDARD
TZOFFSETFROM:+0000
TZOFFSETTO:+0000
TZNAME:UTC
DTSTART:20210101T000000
END:STANDARD
END:VTIMEZONE
BEGIN:VEVENT
DTSTART;TZID=UTC:20221103T173000
DTEND;TZID=UTC:20221103T183000
DTSTAMP:20260422T200227
CREATED:20220119T160619Z
LAST-MODIFIED:20220119T160619Z
UID:10002395-1667496600-1667500200@godalming-tc.gov.uk
SUMMARY:Joint Burial Committee
DESCRIPTION:A meeting of the Committee that manages the town’s two cemeteries
URL:https://godalming-tc.gov.uk/event/joint-burial-committee-2022-11-03/
LOCATION:Council Chamber\, The Burys\, Godalming\, GU7 1HR\, United Kingdom
CATEGORIES:Council Meetings,Joint Burial Committee
ATTACH;FMTTYPE=image/jpeg:https://godalming-tc.gov.uk/wp-content/uploads/2020/05/Logo-JBC-Colour-e1588758722357.jpg
ORGANIZER;CN="Godalming Town Council":MAILTO:office@godalming-tc.gov.uk
GEO:51.1875002;-0.6101009
X-APPLE-STRUCTURED-LOCATION;VALUE=URI;X-ADDRESS=Council Chamber The Burys Godalming GU7 1HR United Kingdom;X-APPLE-RADIUS=500;X-TITLE=The Burys:geo:-0.6101009,51.1875002
END:VEVENT
BEGIN:VEVENT
DTSTART;TZID=UTC:20221103T183000
DTEND;TZID=UTC:20221103T191500
DTSTAMP:20260422T200227
CREATED:20220119T150350Z
LAST-MODIFIED:20221010T134648Z
UID:10002363-1667500200-1667502900@godalming-tc.gov.uk
SUMMARY:Environment & Planning Committee
DESCRIPTION:A committee meeting to address and formulate policy for consideration by the Council to discharge the Council’s functions relating to the local environment and infrastructure. The agenda will be published the Monday before the meeting on our agendas and minutes page.
URL:https://godalming-tc.gov.uk/event/environment-planning-committee-2022-11-03/
LOCATION:Council Chamber\, The Burys\, Godalming\, GU7 1HR\, United Kingdom
CATEGORIES:Council Meetings,Environment & Planning Committee
ATTACH;FMTTYPE=image/jpeg:https://godalming-tc.gov.uk/wp-content/uploads/2016/03/GTC-Crest-Colour-e1467132725337.jpg
GEO:51.1875002;-0.6101009
X-APPLE-STRUCTURED-LOCATION;VALUE=URI;X-ADDRESS=Council Chamber The Burys Godalming GU7 1HR United Kingdom;X-APPLE-RADIUS=500;X-TITLE=The Burys:geo:-0.6101009,51.1875002
END:VEVENT
BEGIN:VEVENT
DTSTART;TZID=UTC:20221103T191500
DTEND;TZID=UTC:20221103T203000
DTSTAMP:20260422T200227
CREATED:20220119T154237Z
LAST-MODIFIED:20221010T135013Z
UID:10002387-1667502900-1667507400@godalming-tc.gov.uk
SUMMARY:Audit Committee
DESCRIPTION:A meeting of a Committee to consider the effectiveness of the Council’s risk management and audit arrangements. The agenda will be published the Monday before the meeting on our agendas and minutes page. \n 
URL:https://godalming-tc.gov.uk/event/audit-committee-2022-11-03/
LOCATION:The Pepperpot\, Church Street\, Godalming\, Surrey\, GU7 1DP
CATEGORIES:Audit Committee,Council Meetings
ATTACH;FMTTYPE=image/png:https://godalming-tc.gov.uk/wp-content/uploads/2022/01/GTC-Crest-web.png
GEO:51.1858353;-0.6156863
X-APPLE-STRUCTURED-LOCATION;VALUE=URI;X-ADDRESS=The Pepperpot Church Street Godalming Surrey GU7 1DP;X-APPLE-RADIUS=500;X-TITLE=Church Street:geo:-0.6156863,51.1858353
END:VEVENT
BEGIN:VEVENT
DTSTART;TZID=UTC:20221117T190000
DTEND;TZID=UTC:20221117T200000
DTSTAMP:20260422T200227
CREATED:20220119T155950Z
LAST-MODIFIED:20221010T135138Z
UID:10002391-1668711600-1668715200@godalming-tc.gov.uk
SUMMARY:Staffing Committee
DESCRIPTION:A meeting of the committee responsible for making recommendations about staffing\, appointments and any other staff-related matters. Often a large part of the meeting is conducted in confidential session. The agenda for the meeting will be published the Monday before the meeting on our agendas and minutes page.
URL:https://godalming-tc.gov.uk/event/staffing-committee-2022-11-17/
LOCATION:The Pepperpot\, Church Street\, Godalming\, Surrey\, GU7 1DP
CATEGORIES:Council Meetings,Staffing Committee
ATTACH;FMTTYPE=image/jpeg:https://godalming-tc.gov.uk/wp-content/uploads/2016/03/GTC-Crest-Colour-e1467132725337.jpg
ORGANIZER;CN="Godalming Town Council":MAILTO:office@godalming-tc.gov.uk
GEO:51.1858353;-0.6156863
X-APPLE-STRUCTURED-LOCATION;VALUE=URI;X-ADDRESS=The Pepperpot Church Street Godalming Surrey GU7 1DP;X-APPLE-RADIUS=500;X-TITLE=Church Street:geo:-0.6156863,51.1858353
END:VEVENT
BEGIN:VEVENT
DTSTART;TZID=UTC:20221117T190000
DTEND;TZID=UTC:20221117T200000
DTSTAMP:20260422T200227
CREATED:20221007T142922Z
LAST-MODIFIED:20221007T142922Z
UID:10002481-1668711600-1668715200@godalming-tc.gov.uk
SUMMARY:Staffing Committee
DESCRIPTION:A meeting of the committee responsible for making recommendations about staffing\, appointments and any other staff-related matters. Often a large part of the meeting is conducted in confidential session. The agenda for the meeting will be published the Monday before the meeting on our agendas and minutes page.
URL:https://godalming-tc.gov.uk/event/staffing-committee/
LOCATION:The Pepperpot\, Church Street\, Godalming\, Surrey\, GU7 1DP
CATEGORIES:Council Meetings,Staffing Committee
ATTACH;FMTTYPE=image/jpeg:https://godalming-tc.gov.uk/wp-content/uploads/2016/03/GTC-Crest-Colour-e1467132725337.jpg
ORGANIZER;CN="Godalming Town Council":MAILTO:office@godalming-tc.gov.uk
GEO:51.1858353;-0.6156863
X-APPLE-STRUCTURED-LOCATION;VALUE=URI;X-ADDRESS=The Pepperpot Church Street Godalming Surrey GU7 1DP;X-APPLE-RADIUS=500;X-TITLE=Church Street:geo:-0.6156863,51.1858353
END:VEVENT
BEGIN:VEVENT
DTSTART;TZID=UTC:20221124T183000
DTEND;TZID=UTC:20221124T191500
DTSTAMP:20260422T200227
CREATED:20220119T150935Z
LAST-MODIFIED:20221010T135310Z
UID:10002365-1669314600-1669317300@godalming-tc.gov.uk
SUMMARY:Environment & Planning Committee
DESCRIPTION:A committee meeting to address and formulate policy for consideration by the Council to discharge the Council’s functions relating to the local environment and infrastructure. The agenda will be published the Monday before the meeting on our agendas and minutes page.
URL:https://godalming-tc.gov.uk/event/environment-planning-committee-2022-11-24/
LOCATION:Council Chamber\, The Burys\, Godalming\, GU7 1HR\, United Kingdom
CATEGORIES:Council Meetings,Environment & Planning Committee
ATTACH;FMTTYPE=image/jpeg:https://godalming-tc.gov.uk/wp-content/uploads/2016/03/GTC-Crest-Colour-e1467132725337.jpg
GEO:51.1875002;-0.6101009
X-APPLE-STRUCTURED-LOCATION;VALUE=URI;X-ADDRESS=Council Chamber The Burys Godalming GU7 1HR United Kingdom;X-APPLE-RADIUS=500;X-TITLE=The Burys:geo:-0.6101009,51.1875002
END:VEVENT
BEGIN:VEVENT
DTSTART;TZID=UTC:20221124T191500
DTEND;TZID=UTC:20221124T200000
DTSTAMP:20260422T200227
CREATED:20220119T153347Z
LAST-MODIFIED:20221010T135517Z
UID:10002379-1669317300-1669320000@godalming-tc.gov.uk
SUMMARY:Policy & Management Committee
DESCRIPTION:A committee meeting to consider matters relating to Town Council policy and the council’s resources. The agenda will be published the Monday before the meeting on our agendas and minutes page.
URL:https://godalming-tc.gov.uk/event/policy-management-committee-2022-11-24/
LOCATION:Council Chamber\, The Burys\, Godalming\, GU7 1HR\, United Kingdom
CATEGORIES:Council Meetings,Policy & Management Committee
ATTACH;FMTTYPE=image/jpeg:https://godalming-tc.gov.uk/wp-content/uploads/2016/03/GTC-Crest-Colour-e1467132725337.jpg
ORGANIZER;CN="Godalming Town Council":MAILTO:office@godalming-tc.gov.uk
GEO:51.1875002;-0.6101009
X-APPLE-STRUCTURED-LOCATION;VALUE=URI;X-ADDRESS=Council Chamber The Burys Godalming GU7 1HR United Kingdom;X-APPLE-RADIUS=500;X-TITLE=The Burys:geo:-0.6101009,51.1875002
END:VEVENT
END:VCALENDAR