BEGIN:VCALENDAR
VERSION:2.0
PRODID:-//Godalming Town Council - ECPv6.15.20//NONSGML v1.0//EN
CALSCALE:GREGORIAN
METHOD:PUBLISH
X-WR-CALNAME:Godalming Town Council
X-ORIGINAL-URL:https://godalming-tc.gov.uk
X-WR-CALDESC:Events for Godalming Town Council
REFRESH-INTERVAL;VALUE=DURATION:PT1H
X-Robots-Tag:noindex
X-PUBLISHED-TTL:PT1H
BEGIN:VTIMEZONE
TZID:Europe/London
BEGIN:DAYLIGHT
TZOFFSETFROM:+0000
TZOFFSETTO:+0100
TZNAME:BST
DTSTART:20220327T010000
END:DAYLIGHT
BEGIN:STANDARD
TZOFFSETFROM:+0100
TZOFFSETTO:+0000
TZNAME:GMT
DTSTART:20221030T010000
END:STANDARD
BEGIN:DAYLIGHT
TZOFFSETFROM:+0000
TZOFFSETTO:+0100
TZNAME:BST
DTSTART:20230326T010000
END:DAYLIGHT
BEGIN:STANDARD
TZOFFSETFROM:+0100
TZOFFSETTO:+0000
TZNAME:GMT
DTSTART:20231029T010000
END:STANDARD
BEGIN:DAYLIGHT
TZOFFSETFROM:+0000
TZOFFSETTO:+0100
TZNAME:BST
DTSTART:20240331T010000
END:DAYLIGHT
BEGIN:STANDARD
TZOFFSETFROM:+0100
TZOFFSETTO:+0000
TZNAME:GMT
DTSTART:20241027T010000
END:STANDARD
END:VTIMEZONE
BEGIN:VEVENT
DTSTART;TZID=Europe/London:20230907T183000
DTEND;TZID=Europe/London:20230907T200000
DTSTAMP:20260422T052202
CREATED:20221221T152212Z
LAST-MODIFIED:20230802T162414Z
UID:10002532-1694111400-1694116800@godalming-tc.gov.uk
SUMMARY:Policy & Management Committee
DESCRIPTION:A committee meeting to consider matters relating to Town Council policy and the council’s resources. The agenda will be published the Monday before the meeting on our agendas and minutes page.
URL:https://godalming-tc.gov.uk/event/policy-management-committee-september-2023/
LOCATION:Council Chamber\, The Burys\, Godalming\, GU7 1HR\, United Kingdom
CATEGORIES:Council Meetings,Policy & Management Committee
ATTACH;FMTTYPE=image/jpeg:https://godalming-tc.gov.uk/wp-content/uploads/2022/12/GTC-Crest-Colour-Large.jpg
ORGANIZER;CN="Godalming Town Council":MAILTO:office@godalming-tc.gov.uk
GEO:51.1875002;-0.6101009
X-APPLE-STRUCTURED-LOCATION;VALUE=URI;X-ADDRESS=Council Chamber The Burys Godalming GU7 1HR United Kingdom;X-APPLE-RADIUS=500;X-TITLE=The Burys:geo:-0.6101009,51.1875002
END:VEVENT
BEGIN:VEVENT
DTSTART;TZID=Europe/London:20230914T183000
DTEND;TZID=Europe/London:20230914T190000
DTSTAMP:20260422T052202
CREATED:20221221T140204Z
LAST-MODIFIED:20230802T162645Z
UID:10002511-1694716200-1694718000@godalming-tc.gov.uk
SUMMARY:Audit Committee
DESCRIPTION:A meeting of a Committee to consider the effectiveness of the Council’s risk management and audit arrangements. The agenda will be published the Monday before the meeting on our agendas and minutes page. \n 
URL:https://godalming-tc.gov.uk/event/audit-committee-september-2023/
LOCATION:The Pepperpot\, Church Street\, Godalming\, Surrey\, GU7 1DP
CATEGORIES:Audit Committee,Council Meetings
ATTACH;FMTTYPE=image/jpeg:https://godalming-tc.gov.uk/wp-content/uploads/2016/03/GTC-Crest-Colour-e1467132725337.jpg
GEO:51.1858353;-0.6156863
X-APPLE-STRUCTURED-LOCATION;VALUE=URI;X-ADDRESS=The Pepperpot Church Street Godalming Surrey GU7 1DP;X-APPLE-RADIUS=500;X-TITLE=Church Street:geo:-0.6156863,51.1858353
END:VEVENT
BEGIN:VEVENT
DTSTART;TZID=Europe/London:20230914T190000
DTEND;TZID=Europe/London:20230914T200000
DTSTAMP:20260422T052202
CREATED:20221220T144545Z
LAST-MODIFIED:20230802T162526Z
UID:10002506-1694718000-1694721600@godalming-tc.gov.uk
SUMMARY:Staffing Committee
DESCRIPTION:A meeting of the committee responsible for making recommendations about staffing\, appointments and any other staff-related matters. Often a large part of the meeting is conducted in confidential session. The agenda for the meeting will be published the Monday before the meeting on our agendas and minutes page.
URL:https://godalming-tc.gov.uk/event/staffing-committee-september-2023/
LOCATION:The Pepperpot\, Church Street\, Godalming\, Surrey\, GU7 1DP
CATEGORIES:Council Meetings,Staffing Committee
ATTACH;FMTTYPE=image/jpeg:https://godalming-tc.gov.uk/wp-content/uploads/2022/12/GTC-Crest-Colour-Large.jpg
ORGANIZER;CN="Godalming Town Council":MAILTO:office@godalming-tc.gov.uk
GEO:51.1858353;-0.6156863
X-APPLE-STRUCTURED-LOCATION;VALUE=URI;X-ADDRESS=The Pepperpot Church Street Godalming Surrey GU7 1DP;X-APPLE-RADIUS=500;X-TITLE=Church Street:geo:-0.6156863,51.1858353
END:VEVENT
BEGIN:VEVENT
DTSTART;TZID=Europe/London:20230921T183000
DTEND;TZID=Europe/London:20230921T190000
DTSTAMP:20260422T052202
CREATED:20221221T142130Z
LAST-MODIFIED:20230911T111925Z
UID:10002518-1695321000-1695322800@godalming-tc.gov.uk
SUMMARY:Environment & Planning Committee
DESCRIPTION:A committee meeting to address and formulate policy for consideration by the Council to discharge the Council’s functions relating to the local environment and infrastructure. The agenda will be published the Monday before the meeting on our agendas and minutes page.
URL:https://godalming-tc.gov.uk/event/environment-planning-committee-september-2023/
LOCATION:Council Chamber\, The Burys\, Godalming\, GU7 1HR\, United Kingdom
CATEGORIES:Council Meetings,Environment & Planning Committee
ATTACH;FMTTYPE=image/jpeg:https://godalming-tc.gov.uk/wp-content/uploads/2022/12/GTC-Crest-Colour-Large.jpg
GEO:51.1875002;-0.6101009
X-APPLE-STRUCTURED-LOCATION;VALUE=URI;X-ADDRESS=Council Chamber The Burys Godalming GU7 1HR United Kingdom;X-APPLE-RADIUS=500;X-TITLE=The Burys:geo:-0.6101009,51.1875002
END:VEVENT
BEGIN:VEVENT
DTSTART;TZID=Europe/London:20230921T190000
DTEND;TZID=Europe/London:20230921T200000
DTSTAMP:20260422T052202
CREATED:20221221T153807Z
LAST-MODIFIED:20230911T110714Z
UID:10002542-1695322800-1695326400@godalming-tc.gov.uk
SUMMARY:Full Council
DESCRIPTION:A meeting of Godalming Town Council – a formal meeting to accept and ratify reports from each of the Council’s Committees. \n 
URL:https://godalming-tc.gov.uk/event/full-council-september-2023/
LOCATION:Council Chamber\, The Burys\, Godalming\, GU7 1HR\, United Kingdom
CATEGORIES:Council Meetings
ATTACH;FMTTYPE=image/jpeg:https://godalming-tc.gov.uk/wp-content/uploads/2022/12/GTC-Crest-Colour-Large.jpg
GEO:51.1875002;-0.6101009
X-APPLE-STRUCTURED-LOCATION;VALUE=URI;X-ADDRESS=Council Chamber The Burys Godalming GU7 1HR United Kingdom;X-APPLE-RADIUS=500;X-TITLE=The Burys:geo:-0.6101009,51.1875002
END:VEVENT
END:VCALENDAR