BEGIN:VCALENDAR
VERSION:2.0
PRODID:-//Godalming Town Council - ECPv6.15.20//NONSGML v1.0//EN
CALSCALE:GREGORIAN
METHOD:PUBLISH
X-WR-CALNAME:Godalming Town Council
X-ORIGINAL-URL:https://godalming-tc.gov.uk
X-WR-CALDESC:Events for Godalming Town Council
REFRESH-INTERVAL;VALUE=DURATION:PT1H
X-Robots-Tag:noindex
X-PUBLISHED-TTL:PT1H
BEGIN:VTIMEZONE
TZID:Europe/London
BEGIN:DAYLIGHT
TZOFFSETFROM:+0000
TZOFFSETTO:+0100
TZNAME:BST
DTSTART:20220327T010000
END:DAYLIGHT
BEGIN:STANDARD
TZOFFSETFROM:+0100
TZOFFSETTO:+0000
TZNAME:GMT
DTSTART:20221030T010000
END:STANDARD
BEGIN:DAYLIGHT
TZOFFSETFROM:+0000
TZOFFSETTO:+0100
TZNAME:BST
DTSTART:20230326T010000
END:DAYLIGHT
BEGIN:STANDARD
TZOFFSETFROM:+0100
TZOFFSETTO:+0000
TZNAME:GMT
DTSTART:20231029T010000
END:STANDARD
BEGIN:DAYLIGHT
TZOFFSETFROM:+0000
TZOFFSETTO:+0100
TZNAME:BST
DTSTART:20240331T010000
END:DAYLIGHT
BEGIN:STANDARD
TZOFFSETFROM:+0100
TZOFFSETTO:+0000
TZNAME:GMT
DTSTART:20241027T010000
END:STANDARD
END:VTIMEZONE
BEGIN:VTIMEZONE
TZID:UTC
BEGIN:STANDARD
TZOFFSETFROM:+0000
TZOFFSETTO:+0000
TZNAME:UTC
DTSTART:20220101T000000
END:STANDARD
END:VTIMEZONE
BEGIN:VEVENT
DTSTART;TZID=Europe/London:20231102T183000
DTEND;TZID=Europe/London:20231102T193000
DTSTAMP:20260422T023648
CREATED:20221221T144135Z
LAST-MODIFIED:20230802T163247Z
UID:10002520-1698949800-1698953400@godalming-tc.gov.uk
SUMMARY:Environment & Planning Committee
DESCRIPTION:A committee meeting to address and formulate policy for consideration by the Council to discharge the Council’s functions relating to the local environment and infrastructure. The agenda will be published the Monday before the meeting on our agendas and minutes page.
URL:https://godalming-tc.gov.uk/event/environment-planning-committee-2-november-2023/
LOCATION:Council Chamber\, The Burys\, Godalming\, GU7 1HR\, United Kingdom
CATEGORIES:Council Meetings,Environment & Planning Committee
ATTACH;FMTTYPE=image/jpeg:https://godalming-tc.gov.uk/wp-content/uploads/2022/12/GTC-Crest-Colour-Large.jpg
GEO:51.1875002;-0.6101009
X-APPLE-STRUCTURED-LOCATION;VALUE=URI;X-ADDRESS=Council Chamber The Burys Godalming GU7 1HR United Kingdom;X-APPLE-RADIUS=500;X-TITLE=The Burys:geo:-0.6101009,51.1875002
END:VEVENT
BEGIN:VEVENT
DTSTART;TZID=UTC:20231102T190000
DTEND;TZID=UTC:20231102T203000
DTSTAMP:20260422T023648
CREATED:20231025T111258Z
LAST-MODIFIED:20231025T111258Z
UID:10002680-1698951600-1698957000@godalming-tc.gov.uk
SUMMARY:Policy & Management Committee - Extraordinary
DESCRIPTION:A committee meeting to consider matters relating to Town Council policy and the council’s resources. The agenda will be published the Monday before the meeting on our agendas and minutes page.
URL:https://godalming-tc.gov.uk/event/policy-management-committee-extraordinary-2/
LOCATION:Council Chamber\, The Burys\, Godalming\, GU7 1HR\, United Kingdom
CATEGORIES:Council Meetings,Policy & Management Committee
ATTACH;FMTTYPE=image/jpeg:https://godalming-tc.gov.uk/wp-content/uploads/2022/12/GTC-Crest-Colour-Large.jpg
ORGANIZER;CN="Godalming Town Council":MAILTO:office@godalming-tc.gov.uk
GEO:51.1875002;-0.6101009
X-APPLE-STRUCTURED-LOCATION;VALUE=URI;X-ADDRESS=Council Chamber The Burys Godalming GU7 1HR United Kingdom;X-APPLE-RADIUS=500;X-TITLE=The Burys:geo:-0.6101009,51.1875002
END:VEVENT
BEGIN:VEVENT
DTSTART;TZID=Europe/London:20231102T193000
DTEND;TZID=Europe/London:20231102T203000
DTSTAMP:20260422T023648
CREATED:20230802T153845Z
LAST-MODIFIED:20231026T154229Z
UID:10002661-1698953400-1698957000@godalming-tc.gov.uk
SUMMARY:Full Council - Extraordinary
DESCRIPTION:[vc_row][vc_column][vc_column_text] \n An extraordinary meeting of Godalming Town Council – a formal meeting to accept and ratify reports from each of the Council’s Committees. \n  \n  \n[/vc_column_text][/vc_column][/vc_row]
URL:https://godalming-tc.gov.uk/event/full-council-extraordinary-2-november-2023/
LOCATION:Council Chamber\, The Burys\, Godalming\, GU7 1HR\, United Kingdom
CATEGORIES:Council Meetings,Policy & Management Committee
ATTACH;FMTTYPE=image/jpeg:https://godalming-tc.gov.uk/wp-content/uploads/2022/12/GTC-Crest-Colour-Large.jpg
ORGANIZER;CN="Godalming Town Council":MAILTO:office@godalming-tc.gov.uk
GEO:51.1875002;-0.6101009
X-APPLE-STRUCTURED-LOCATION;VALUE=URI;X-ADDRESS=Council Chamber The Burys Godalming GU7 1HR United Kingdom;X-APPLE-RADIUS=500;X-TITLE=The Burys:geo:-0.6101009,51.1875002
END:VEVENT
BEGIN:VEVENT
DTSTART;TZID=Europe/London:20231116T183000
DTEND;TZID=Europe/London:20231116T193000
DTSTAMP:20260422T023648
CREATED:20221220T144703Z
LAST-MODIFIED:20230802T163447Z
UID:10002507-1700159400-1700163000@godalming-tc.gov.uk
SUMMARY:Staffing Committee
DESCRIPTION:A meeting of the committee responsible for making recommendations about staffing\, appointments and any other staff-related matters. Often a large part of the meeting is conducted in confidential session. The agenda for the meeting will be published the Monday before the meeting on our agendas and minutes page.
URL:https://godalming-tc.gov.uk/event/staffing-committee-november-2023/
LOCATION:The Pepperpot\, Church Street\, Godalming\, Surrey\, GU7 1DP
CATEGORIES:Council Meetings,Staffing Committee
ATTACH;FMTTYPE=image/jpeg:https://godalming-tc.gov.uk/wp-content/uploads/2022/12/GTC-Crest-Colour-Large.jpg
ORGANIZER;CN="Godalming Town Council":MAILTO:office@godalming-tc.gov.uk
GEO:51.1858353;-0.6156863
X-APPLE-STRUCTURED-LOCATION;VALUE=URI;X-ADDRESS=The Pepperpot Church Street Godalming Surrey GU7 1DP;X-APPLE-RADIUS=500;X-TITLE=Church Street:geo:-0.6156863,51.1858353
END:VEVENT
BEGIN:VEVENT
DTSTART;TZID=Europe/London:20231123T183000
DTEND;TZID=Europe/London:20231123T190000
DTSTAMP:20260422T023648
CREATED:20221221T144322Z
LAST-MODIFIED:20230802T163553Z
UID:10002521-1700764200-1700766000@godalming-tc.gov.uk
SUMMARY:Environment & Planning Committee
DESCRIPTION:A committee meeting to address and formulate policy for consideration by the Council to discharge the Council’s functions relating to the local environment and infrastructure. The agenda will be published the Monday before the meeting on our agendas and minutes page.
URL:https://godalming-tc.gov.uk/event/environment-planning-committee-23-november-2023/
LOCATION:Council Chamber\, The Burys\, Godalming\, GU7 1HR\, United Kingdom
CATEGORIES:Council Meetings,Environment & Planning Committee
ATTACH;FMTTYPE=image/jpeg:https://godalming-tc.gov.uk/wp-content/uploads/2022/12/GTC-Crest-Colour-Large.jpg
GEO:51.1875002;-0.6101009
X-APPLE-STRUCTURED-LOCATION;VALUE=URI;X-ADDRESS=Council Chamber The Burys Godalming GU7 1HR United Kingdom;X-APPLE-RADIUS=500;X-TITLE=The Burys:geo:-0.6101009,51.1875002
END:VEVENT
BEGIN:VEVENT
DTSTART;TZID=Europe/London:20231123T190000
DTEND;TZID=Europe/London:20231123T203000
DTSTAMP:20260422T023648
CREATED:20221221T152436Z
LAST-MODIFIED:20230802T163704Z
UID:10002534-1700766000-1700771400@godalming-tc.gov.uk
SUMMARY:Policy & Management Committee
DESCRIPTION:A committee meeting to consider matters relating to Town Council policy and the council’s resources. The agenda will be published the Monday before the meeting on our agendas and minutes page.
URL:https://godalming-tc.gov.uk/event/policy-management-committee-november-2023/
LOCATION:Council Chamber\, The Burys\, Godalming\, GU7 1HR\, United Kingdom
CATEGORIES:Council Meetings,Policy & Management Committee
ATTACH;FMTTYPE=image/jpeg:https://godalming-tc.gov.uk/wp-content/uploads/2022/12/GTC-Crest-Colour-Large.jpg
ORGANIZER;CN="Godalming Town Council":MAILTO:office@godalming-tc.gov.uk
GEO:51.1875002;-0.6101009
X-APPLE-STRUCTURED-LOCATION;VALUE=URI;X-ADDRESS=Council Chamber The Burys Godalming GU7 1HR United Kingdom;X-APPLE-RADIUS=500;X-TITLE=The Burys:geo:-0.6101009,51.1875002
END:VEVENT
END:VCALENDAR