BEGIN:VCALENDAR
VERSION:2.0
PRODID:-//Godalming Town Council - ECPv6.15.20//NONSGML v1.0//EN
CALSCALE:GREGORIAN
METHOD:PUBLISH
X-WR-CALNAME:Godalming Town Council
X-ORIGINAL-URL:https://godalming-tc.gov.uk
X-WR-CALDESC:Events for Godalming Town Council
REFRESH-INTERVAL;VALUE=DURATION:PT1H
X-Robots-Tag:noindex
X-PUBLISHED-TTL:PT1H
BEGIN:VTIMEZONE
TZID:Europe/London
BEGIN:DAYLIGHT
TZOFFSETFROM:+0000
TZOFFSETTO:+0100
TZNAME:BST
DTSTART:20230326T010000
END:DAYLIGHT
BEGIN:STANDARD
TZOFFSETFROM:+0100
TZOFFSETTO:+0000
TZNAME:GMT
DTSTART:20231029T010000
END:STANDARD
BEGIN:DAYLIGHT
TZOFFSETFROM:+0000
TZOFFSETTO:+0100
TZNAME:BST
DTSTART:20240331T010000
END:DAYLIGHT
BEGIN:STANDARD
TZOFFSETFROM:+0100
TZOFFSETTO:+0000
TZNAME:GMT
DTSTART:20241027T010000
END:STANDARD
BEGIN:DAYLIGHT
TZOFFSETFROM:+0000
TZOFFSETTO:+0100
TZNAME:BST
DTSTART:20250330T010000
END:DAYLIGHT
BEGIN:STANDARD
TZOFFSETFROM:+0100
TZOFFSETTO:+0000
TZNAME:GMT
DTSTART:20251026T010000
END:STANDARD
END:VTIMEZONE
BEGIN:VTIMEZONE
TZID:UTC
BEGIN:STANDARD
TZOFFSETFROM:+0000
TZOFFSETTO:+0000
TZNAME:UTC
DTSTART:20230101T000000
END:STANDARD
END:VTIMEZONE
BEGIN:VEVENT
DTSTART;TZID=Europe/London:20240404T183000
DTEND;TZID=Europe/London:20240404T193000
DTSTAMP:20260421T175006
CREATED:20221221T145319Z
LAST-MODIFIED:20240327T131756Z
UID:10002527-1712255400-1712259000@godalming-tc.gov.uk
SUMMARY:CANCELLED - Environment & Planning Committee
DESCRIPTION:A committee meeting to address and formulate policy for consideration by the Council to discharge the Council’s functions relating to the local environment and infrastructure. The agenda will be published the Monday before the meeting on our agendas and minutes page.
URL:https://godalming-tc.gov.uk/event/environment-planning-committee-4-april-2024/
LOCATION:Council Chamber\, The Burys\, Godalming\, GU7 1HR\, United Kingdom
CATEGORIES:Council Meetings,Environment & Planning Committee
ATTACH;FMTTYPE=image/jpeg:https://godalming-tc.gov.uk/wp-content/uploads/2022/12/GTC-Crest-Colour-Large.jpg
ORGANIZER;CN="Godalming Town Council":MAILTO:office@godalming-tc.gov.uk
GEO:51.1875002;-0.6101009
X-APPLE-STRUCTURED-LOCATION;VALUE=URI;X-ADDRESS=Council Chamber The Burys Godalming GU7 1HR United Kingdom;X-APPLE-RADIUS=500;X-TITLE=The Burys:geo:-0.6101009,51.1875002
END:VEVENT
BEGIN:VEVENT
DTSTART;TZID=UTC:20240418T183000
DTEND;TZID=UTC:20240418T190000
DTSTAMP:20260421T175006
CREATED:20221221T141014Z
LAST-MODIFIED:20231221T101228Z
UID:10002513-1713465000-1713466800@godalming-tc.gov.uk
SUMMARY:Audit Committee
DESCRIPTION:A meeting of a Committee to consider the effectiveness of the Council’s risk management and audit arrangements. The agenda will be published the Monday before the meeting on our agendas and minutes page. \n 
URL:https://godalming-tc.gov.uk/event/audit-committee-april-2024/
LOCATION:The Pepperpot\, Church Street\, Godalming\, Surrey\, GU7 1DP
CATEGORIES:Audit Committee,Council Meetings
ATTACH;FMTTYPE=image/jpeg:https://godalming-tc.gov.uk/wp-content/uploads/2022/12/GTC-Crest-Colour-Large.jpg
ORGANIZER;CN="Godalming Town Council":MAILTO:office@godalming-tc.gov.uk
GEO:51.1858353;-0.6156863
X-APPLE-STRUCTURED-LOCATION;VALUE=URI;X-ADDRESS=The Pepperpot Church Street Godalming Surrey GU7 1DP;X-APPLE-RADIUS=500;X-TITLE=Church Street:geo:-0.6156863,51.1858353
END:VEVENT
BEGIN:VEVENT
DTSTART;TZID=UTC:20240425T183000
DTEND;TZID=UTC:20240425T190000
DTSTAMP:20260421T175006
CREATED:20221221T145509Z
LAST-MODIFIED:20240307T120306Z
UID:10002528-1714069800-1714071600@godalming-tc.gov.uk
SUMMARY:Environment & Planning Committee
DESCRIPTION:A committee meeting to address and formulate policy for consideration by the Council to discharge the Council’s functions relating to the local environment and infrastructure. The agenda will be published the Monday before the meeting on our agendas and minutes page.
URL:https://godalming-tc.gov.uk/event/environment-planning-committee-25-april-2024/
LOCATION:Wilfrid Noyce Centre – Oglethorpe Hall\, Crown Court Car Park\, Godalming\, Surrey\, GU7 1DY\, United Kingdom
CATEGORIES:Council Meetings,Environment & Planning Committee
ATTACH;FMTTYPE=image/jpeg:https://godalming-tc.gov.uk/wp-content/uploads/2022/12/GTC-Crest-Colour-Large.jpg
ORGANIZER;CN="Godalming Town Council":MAILTO:office@godalming-tc.gov.uk
GEO:51.1866829;-0.6126768
X-APPLE-STRUCTURED-LOCATION;VALUE=URI;X-ADDRESS=Wilfrid Noyce Centre – Oglethorpe Hall Crown Court Car Park Godalming Surrey GU7 1DY United Kingdom;X-APPLE-RADIUS=500;X-TITLE=Crown Court Car Park:geo:-0.6126768,51.1866829
END:VEVENT
BEGIN:VEVENT
DTSTART;TZID=UTC:20240425T190000
DTEND;TZID=UTC:20240425T203000
DTSTAMP:20260421T175006
CREATED:20221221T152835Z
LAST-MODIFIED:20240307T115925Z
UID:10002537-1714071600-1714077000@godalming-tc.gov.uk
SUMMARY:Policy & Management Committee
DESCRIPTION:A committee meeting to consider matters relating to Town Council policy and the council’s resources. The agenda will be published the Monday before the meeting on our agendas and minutes page.
URL:https://godalming-tc.gov.uk/event/policy-management-committee-april-2024/
LOCATION:Wilfrid Noyce Centre – Oglethorpe Hall\, Crown Court Car Park\, Godalming\, Surrey\, GU7 1DY\, United Kingdom
CATEGORIES:Council Meetings,Policy & Management Committee
ATTACH;FMTTYPE=image/jpeg:https://godalming-tc.gov.uk/wp-content/uploads/2022/12/GTC-Crest-Colour-Large.jpg
ORGANIZER;CN="Godalming Town Council":MAILTO:office@godalming-tc.gov.uk
GEO:51.1866829;-0.6126768
X-APPLE-STRUCTURED-LOCATION;VALUE=URI;X-ADDRESS=Wilfrid Noyce Centre – Oglethorpe Hall Crown Court Car Park Godalming Surrey GU7 1DY United Kingdom;X-APPLE-RADIUS=500;X-TITLE=Crown Court Car Park:geo:-0.6126768,51.1866829
END:VEVENT
END:VCALENDAR