BEGIN:VCALENDAR
VERSION:2.0
PRODID:-//Godalming Town Council - ECPv6.15.20//NONSGML v1.0//EN
CALSCALE:GREGORIAN
METHOD:PUBLISH
X-ORIGINAL-URL:https://godalming-tc.gov.uk
X-WR-CALDESC:Events for Godalming Town Council
REFRESH-INTERVAL;VALUE=DURATION:PT1H
X-Robots-Tag:noindex
X-PUBLISHED-TTL:PT1H
BEGIN:VTIMEZONE
TZID:Europe/London
BEGIN:DAYLIGHT
TZOFFSETFROM:+0000
TZOFFSETTO:+0100
TZNAME:BST
DTSTART:20230326T010000
END:DAYLIGHT
BEGIN:STANDARD
TZOFFSETFROM:+0100
TZOFFSETTO:+0000
TZNAME:GMT
DTSTART:20231029T010000
END:STANDARD
BEGIN:DAYLIGHT
TZOFFSETFROM:+0000
TZOFFSETTO:+0100
TZNAME:BST
DTSTART:20240331T010000
END:DAYLIGHT
BEGIN:STANDARD
TZOFFSETFROM:+0100
TZOFFSETTO:+0000
TZNAME:GMT
DTSTART:20241027T010000
END:STANDARD
BEGIN:DAYLIGHT
TZOFFSETFROM:+0000
TZOFFSETTO:+0100
TZNAME:BST
DTSTART:20250330T010000
END:DAYLIGHT
BEGIN:STANDARD
TZOFFSETFROM:+0100
TZOFFSETTO:+0000
TZNAME:GMT
DTSTART:20251026T010000
END:STANDARD
END:VTIMEZONE
BEGIN:VEVENT
DTSTART;TZID=Europe/London:20241107T183000
DTEND;TZID=Europe/London:20241107T193000
DTSTAMP:20260421T104800
CREATED:20231220T154639Z
LAST-MODIFIED:20241031T103537Z
UID:10002777-1731004200-1731007800@godalming-tc.gov.uk
SUMMARY:Cancelled - Environment & Planning Committee
DESCRIPTION:[vc_row][vc_column][vc_column_text css=”” css_params=””] \nThis meeting has been cancelled. \nA committee meeting to address and formulate policy for consideration by the Council to discharge the Council’s functions relating to the local environment and infrastructure. The agenda will be published the Monday before the meeting on our agendas and minutes page. \n  \n  \n  \n[/vc_column_text][/vc_column][/vc_row]
URL:https://godalming-tc.gov.uk/event/environment-planning-committee-7-november-2024/
LOCATION:Council Chamber\, The Burys\, Godalming\, GU7 1HR\, United Kingdom
CATEGORIES:Council Meetings,Environment & Planning Committee
ORGANIZER;CN="Godalming Town Council":MAILTO:office@godalming-tc.gov.uk
GEO:51.1875002;-0.6101009
X-APPLE-STRUCTURED-LOCATION;VALUE=URI;X-ADDRESS=Council Chamber The Burys Godalming GU7 1HR United Kingdom;X-APPLE-RADIUS=500;X-TITLE=The Burys:geo:-0.6101009,51.1875002
END:VEVENT
BEGIN:VEVENT
DTSTART;TZID=Europe/London:20241107T190000
DTEND;TZID=Europe/London:20241107T203000
DTSTAMP:20260421T104800
CREATED:20231220T160603Z
LAST-MODIFIED:20241031T103726Z
UID:10002793-1731006000-1731011400@godalming-tc.gov.uk
SUMMARY:Cancelled - Policy & Management Committee
DESCRIPTION:[vc_row][vc_column][vc_column_text css=”” css_params=””] \nThis meeting has been cancelled. \nA committee meeting to consider matters relating to Town Council policy and the council’s resources. The agenda will be published the Monday before the meeting on our agendas and minutes page. \n  \n[/vc_column_text][/vc_column][/vc_row]
URL:https://godalming-tc.gov.uk/event/policy-management-committee-7-november-2024/
LOCATION:Council Chamber\, The Burys\, Godalming\, GU7 1HR\, United Kingdom
CATEGORIES:Council Meetings,Policy & Management Committee
ORGANIZER;CN="Godalming Town Council":MAILTO:office@godalming-tc.gov.uk
GEO:51.1875002;-0.6101009
X-APPLE-STRUCTURED-LOCATION;VALUE=URI;X-ADDRESS=Council Chamber The Burys Godalming GU7 1HR United Kingdom;X-APPLE-RADIUS=500;X-TITLE=The Burys:geo:-0.6101009,51.1875002
END:VEVENT
BEGIN:VEVENT
DTSTART;TZID=Europe/London:20241114T183000
DTEND;TZID=Europe/London:20241114T193000
DTSTAMP:20260421T104800
CREATED:20231220T165141Z
LAST-MODIFIED:20231220T165141Z
UID:10002809-1731609000-1731612600@godalming-tc.gov.uk
SUMMARY:Staffing Committee
DESCRIPTION:A meeting of the committee responsible for making recommendations about staffing\, appointments and any other staff-related matters. Often a large part of the meeting is conducted in confidential session. The agenda for the meeting will be published the Monday before the meeting on our agendas and minutes page.
URL:https://godalming-tc.gov.uk/event/staffing-committee-14-november-2024/
LOCATION:The Pepperpot\, Church Street\, Godalming\, Surrey\, GU7 1DP
CATEGORIES:Council Meetings,Staffing Committee
ATTACH;FMTTYPE=image/jpeg:https://godalming-tc.gov.uk/wp-content/uploads/2022/12/GTC-Crest-Colour-Large.jpg
ORGANIZER;CN="Godalming Town Council":MAILTO:office@godalming-tc.gov.uk
GEO:51.1858353;-0.6156863
X-APPLE-STRUCTURED-LOCATION;VALUE=URI;X-ADDRESS=The Pepperpot Church Street Godalming Surrey GU7 1DP;X-APPLE-RADIUS=500;X-TITLE=Church Street:geo:-0.6156863,51.1858353
END:VEVENT
BEGIN:VEVENT
DTSTART;TZID=Europe/London:20241121T183000
DTEND;TZID=Europe/London:20241121T200000
DTSTAMP:20260421T104800
CREATED:20231221T091531Z
LAST-MODIFIED:20240819T101947Z
UID:10002815-1732213800-1732219200@godalming-tc.gov.uk
SUMMARY:Full Council
DESCRIPTION:A meeting of Godalming Town Council – a formal meeting to accept and ratify reports from each of the Council’s Committees. \n 
URL:https://godalming-tc.gov.uk/event/full-council-21-november-2024/
LOCATION:Council Chamber\, The Burys\, Godalming\, GU7 1HR\, United Kingdom
CATEGORIES:Council Meetings
ATTACH;FMTTYPE=image/jpeg:https://godalming-tc.gov.uk/wp-content/uploads/2022/12/GTC-Crest-Colour-Large.jpg
ORGANIZER;CN="Godalming Town Council":MAILTO:office@godalming-tc.gov.uk
GEO:51.1875002;-0.6101009
X-APPLE-STRUCTURED-LOCATION;VALUE=URI;X-ADDRESS=Council Chamber The Burys Godalming GU7 1HR United Kingdom;X-APPLE-RADIUS=500;X-TITLE=The Burys:geo:-0.6101009,51.1875002
END:VEVENT
BEGIN:VEVENT
DTSTART;TZID=Europe/London:20241128T183000
DTEND;TZID=Europe/London:20241128T193000
DTSTAMP:20260421T104800
CREATED:20231220T154731Z
LAST-MODIFIED:20240819T102910Z
UID:10002778-1732818600-1732822200@godalming-tc.gov.uk
SUMMARY:Environment & Planning Committee
DESCRIPTION:[vc_row][vc_column][vc_column_text] \nA committee meeting to address and formulate policy for consideration by the Council to discharge the Council’s functions relating to the local environment and infrastructure. The agenda will be published the Monday before the meeting on our agendas and minutes page. \n  \n[/vc_column_text][/vc_column][/vc_row]
URL:https://godalming-tc.gov.uk/event/environment-planning-committee-28-november-2024/
LOCATION:Council Chamber\, The Burys\, Godalming\, GU7 1HR\, United Kingdom
CATEGORIES:Council Meetings,Environment & Planning Committee
ATTACH;FMTTYPE=image/jpeg:https://godalming-tc.gov.uk/wp-content/uploads/2022/12/GTC-Crest-Colour-Large.jpg
ORGANIZER;CN="Godalming Town Council":MAILTO:office@godalming-tc.gov.uk
GEO:51.1875002;-0.6101009
X-APPLE-STRUCTURED-LOCATION;VALUE=URI;X-ADDRESS=Council Chamber The Burys Godalming GU7 1HR United Kingdom;X-APPLE-RADIUS=500;X-TITLE=The Burys:geo:-0.6101009,51.1875002
END:VEVENT
BEGIN:VEVENT
DTSTART;TZID=Europe/London:20241128T190000
DTEND;TZID=Europe/London:20241128T203000
DTSTAMP:20260421T104800
CREATED:20231220T160655Z
LAST-MODIFIED:20240819T103006Z
UID:10002794-1732820400-1732825800@godalming-tc.gov.uk
SUMMARY:Policy & Management Committee
DESCRIPTION:A committee meeting to consider matters relating to Town Council policy and the council’s resources. The agenda will be published the Monday before the meeting on our agendas and minutes page.
URL:https://godalming-tc.gov.uk/event/policy-management-committee-28-november-2024/
LOCATION:Council Chamber\, The Burys\, Godalming\, GU7 1HR\, United Kingdom
CATEGORIES:Council Meetings,Policy & Management Committee
ATTACH;FMTTYPE=image/jpeg:https://godalming-tc.gov.uk/wp-content/uploads/2022/12/GTC-Crest-Colour-Large.jpg
ORGANIZER;CN="Godalming Town Council":MAILTO:office@godalming-tc.gov.uk
GEO:51.1875002;-0.6101009
X-APPLE-STRUCTURED-LOCATION;VALUE=URI;X-ADDRESS=Council Chamber The Burys Godalming GU7 1HR United Kingdom;X-APPLE-RADIUS=500;X-TITLE=The Burys:geo:-0.6101009,51.1875002
END:VEVENT
END:VCALENDAR