BEGIN:VCALENDAR
VERSION:2.0
PRODID:-//Godalming Town Council - ECPv6.15.20//NONSGML v1.0//EN
CALSCALE:GREGORIAN
METHOD:PUBLISH
X-WR-CALNAME:Godalming Town Council
X-ORIGINAL-URL:https://godalming-tc.gov.uk
X-WR-CALDESC:Events for Godalming Town Council
REFRESH-INTERVAL;VALUE=DURATION:PT1H
X-Robots-Tag:noindex
X-PUBLISHED-TTL:PT1H
BEGIN:VTIMEZONE
TZID:Europe/London
BEGIN:DAYLIGHT
TZOFFSETFROM:+0000
TZOFFSETTO:+0100
TZNAME:BST
DTSTART:20250330T010000
END:DAYLIGHT
BEGIN:STANDARD
TZOFFSETFROM:+0100
TZOFFSETTO:+0000
TZNAME:GMT
DTSTART:20251026T010000
END:STANDARD
BEGIN:DAYLIGHT
TZOFFSETFROM:+0000
TZOFFSETTO:+0100
TZNAME:BST
DTSTART:20260329T010000
END:DAYLIGHT
BEGIN:STANDARD
TZOFFSETFROM:+0100
TZOFFSETTO:+0000
TZNAME:GMT
DTSTART:20261025T010000
END:STANDARD
BEGIN:DAYLIGHT
TZOFFSETFROM:+0000
TZOFFSETTO:+0100
TZNAME:BST
DTSTART:20270328T010000
END:DAYLIGHT
BEGIN:STANDARD
TZOFFSETFROM:+0100
TZOFFSETTO:+0000
TZNAME:GMT
DTSTART:20271031T010000
END:STANDARD
END:VTIMEZONE
BEGIN:VEVENT
DTSTART;TZID=Europe/London:20260701T140000
DTEND;TZID=Europe/London:20260701T160000
DTSTAMP:20260421T060313
CREATED:20260109T112304Z
LAST-MODIFIED:20260109T122933Z
UID:10003913-1782914400-1782921600@godalming-tc.gov.uk
SUMMARY:Godalming Library of Things
DESCRIPTION:[vc_row][vc_column][vc_column_text css=”” css_params=””]Come and learn about the Godalming Library of Things\, 115 items you can borrow for free. \nVolunteers are at the Library every Wednesday afternoon and you can find out about all the other activities that What Next runs. \nAlso\, if you would like to discuss your thoughts about the climate we would be happy to listen. \nFree event.[/vc_column_text][/vc_column][/vc_row]
URL:https://godalming-tc.gov.uk/event/godalming-library-of-things/2026-07-01/
LOCATION:Godalming Library\, Bridge Street\, Godalming\, GU7 1HT\, United Kingdom
CATEGORIES:Free
ATTACH;FMTTYPE=image/jpeg:https://godalming-tc.gov.uk/wp-content/uploads/2026/01/Logo-What-Next-Web-Event-New-i-scaled.jpg
GEO:51.186564;-0.6094289
X-APPLE-STRUCTURED-LOCATION;VALUE=URI;X-ADDRESS=Godalming Library Bridge Street Godalming GU7 1HT United Kingdom;X-APPLE-RADIUS=500;X-TITLE=Bridge Street:geo:-0.6094289,51.186564
END:VEVENT
BEGIN:VEVENT
DTSTART;TZID=Europe/London:20260708T140000
DTEND;TZID=Europe/London:20260708T160000
DTSTAMP:20260421T060313
CREATED:20260109T112304Z
LAST-MODIFIED:20260109T122933Z
UID:10003914-1783519200-1783526400@godalming-tc.gov.uk
SUMMARY:Godalming Library of Things
DESCRIPTION:[vc_row][vc_column][vc_column_text css=”” css_params=””]Come and learn about the Godalming Library of Things\, 115 items you can borrow for free. \nVolunteers are at the Library every Wednesday afternoon and you can find out about all the other activities that What Next runs. \nAlso\, if you would like to discuss your thoughts about the climate we would be happy to listen. \nFree event.[/vc_column_text][/vc_column][/vc_row]
URL:https://godalming-tc.gov.uk/event/godalming-library-of-things/2026-07-08/
LOCATION:Godalming Library\, Bridge Street\, Godalming\, GU7 1HT\, United Kingdom
CATEGORIES:Free
ATTACH;FMTTYPE=image/jpeg:https://godalming-tc.gov.uk/wp-content/uploads/2026/01/Logo-What-Next-Web-Event-New-i-scaled.jpg
GEO:51.186564;-0.6094289
X-APPLE-STRUCTURED-LOCATION;VALUE=URI;X-ADDRESS=Godalming Library Bridge Street Godalming GU7 1HT United Kingdom;X-APPLE-RADIUS=500;X-TITLE=Bridge Street:geo:-0.6094289,51.186564
END:VEVENT
BEGIN:VEVENT
DTSTART;TZID=Europe/London:20260710T173000
DTEND;TZID=Europe/London:20260710T200000
DTSTAMP:20260421T060313
CREATED:20260108T101454Z
LAST-MODIFIED:20260108T111711Z
UID:10003765-1783704600-1783713600@godalming-tc.gov.uk
SUMMARY:Climate Club
DESCRIPTION:[vc_row][vc_column][vc_column_text css=”” css_params=””]WhatNext? hosts a conversation and a shared supper at the Denningberg Rooms\, Bridge Street\, Godalming\, GU7 1HP.  Bring some food and drink to share and join in with our environmental themes. \n17:30 – arrive early if you want to prepare food in the venue\n18:00 – social\n18:30 – sit down to eat\n19:00 – talk or discussion \nCome when it suits you \nThis is a bi-monthly event\, every 2nd and 4th Friday. \nThis is free event.[/vc_column_text][vc_single_image image=”36335″ img_size=”800×500″ alignment=”center” css=”” css_params=””][/vc_column][/vc_row]
URL:https://godalming-tc.gov.uk/event/climate-club/2026-07-10/
LOCATION:The Denningberg Centre\, Bridge Street\, Godalming\, Surrey\, GU7 1HP\, United Kingdom
CATEGORIES:Free
ATTACH;FMTTYPE=image/jpeg:https://godalming-tc.gov.uk/wp-content/uploads/2026/01/Logo-What-Next-Web-Event-New-i-scaled.jpg
GEO:51.186279;-0.6098409
X-APPLE-STRUCTURED-LOCATION;VALUE=URI;X-ADDRESS=The Denningberg Centre Bridge Street Godalming Surrey GU7 1HP United Kingdom;X-APPLE-RADIUS=500;X-TITLE=Bridge Street:geo:-0.6098409,51.186279
END:VEVENT
BEGIN:VEVENT
DTSTART;TZID=Europe/London:20260711T143000
DTEND;TZID=Europe/London:20260711T160000
DTSTAMP:20260421T060313
CREATED:20260202T141651Z
LAST-MODIFIED:20260203T124905Z
UID:10004001-1783780200-1783785600@godalming-tc.gov.uk
SUMMARY:Godalming Town Guided History Walks - Summer 2026
DESCRIPTION:[vc_row][vc_column][vc_column_text css=”” css_params=””]Come along and learn about the town’s fascinating and sometimes surprising history.  We will look at the buildings and landscape for clues about Godalming’s past. \nThere are two walks alternating through the summer; the first looks at the town’s ‘industrial’ past (walk 1) whereas the second looks at the town’s former coaching inns and their role and the High Street and Bridge Street (walk 2). \nOn previous walks\, participants have added some interesting comments about the town’s history\, to the benefit of us all.  The walks are both relatively easy walking on the public footpaths around the town and usually take about 1.5 hours each. \nNo booking is required\, the walks are free\, just turn up at The Pepperpot at 2.30pm. \nThe dates for this year are the following Saturdays: \nSaturday\, 9 May – Walk 1\nSaturday\, 13 June – Walk 2\nSaturday\, 11 July – Walk 1\nSaturday\, 15 August – Walk 2 \nPlease check on the Godalming Trust website for any updates to this programme. \nFor more information about the walks or to arrange a separate group walk\, please use our contact form.[/vc_column_text][/vc_column][/vc_row]
URL:https://godalming-tc.gov.uk/event/godalming-town-guided-history-walks-summer-2026/2026-07-11/
LOCATION:The Pepperpot\, Church Street\, Godalming\, Surrey\, GU7 1DP
CATEGORIES:Free
ATTACH;FMTTYPE=image/jpeg:https://godalming-tc.gov.uk/wp-content/uploads/2026/02/Logo-Godalming-Trust-Large-scaled.jpg
ORGANIZER;CN="Godalming Trust":MAILTO:info@thegodalmingtrust.org.uk
GEO:51.1858353;-0.6156863
X-APPLE-STRUCTURED-LOCATION;VALUE=URI;X-ADDRESS=The Pepperpot Church Street Godalming Surrey GU7 1DP;X-APPLE-RADIUS=500;X-TITLE=Church Street:geo:-0.6156863,51.1858353
END:VEVENT
BEGIN:VEVENT
DTSTART;TZID=Europe/London:20260715T140000
DTEND;TZID=Europe/London:20260715T160000
DTSTAMP:20260421T060313
CREATED:20260109T112304Z
LAST-MODIFIED:20260109T122933Z
UID:10003915-1784124000-1784131200@godalming-tc.gov.uk
SUMMARY:Godalming Library of Things
DESCRIPTION:[vc_row][vc_column][vc_column_text css=”” css_params=””]Come and learn about the Godalming Library of Things\, 115 items you can borrow for free. \nVolunteers are at the Library every Wednesday afternoon and you can find out about all the other activities that What Next runs. \nAlso\, if you would like to discuss your thoughts about the climate we would be happy to listen. \nFree event.[/vc_column_text][/vc_column][/vc_row]
URL:https://godalming-tc.gov.uk/event/godalming-library-of-things/2026-07-15/
LOCATION:Godalming Library\, Bridge Street\, Godalming\, GU7 1HT\, United Kingdom
CATEGORIES:Free
ATTACH;FMTTYPE=image/jpeg:https://godalming-tc.gov.uk/wp-content/uploads/2026/01/Logo-What-Next-Web-Event-New-i-scaled.jpg
GEO:51.186564;-0.6094289
X-APPLE-STRUCTURED-LOCATION;VALUE=URI;X-ADDRESS=Godalming Library Bridge Street Godalming GU7 1HT United Kingdom;X-APPLE-RADIUS=500;X-TITLE=Bridge Street:geo:-0.6094289,51.186564
END:VEVENT
BEGIN:VEVENT
DTSTART;TZID=Europe/London:20260722T140000
DTEND;TZID=Europe/London:20260722T160000
DTSTAMP:20260421T060313
CREATED:20260109T112304Z
LAST-MODIFIED:20260109T122933Z
UID:10003916-1784728800-1784736000@godalming-tc.gov.uk
SUMMARY:Godalming Library of Things
DESCRIPTION:[vc_row][vc_column][vc_column_text css=”” css_params=””]Come and learn about the Godalming Library of Things\, 115 items you can borrow for free. \nVolunteers are at the Library every Wednesday afternoon and you can find out about all the other activities that What Next runs. \nAlso\, if you would like to discuss your thoughts about the climate we would be happy to listen. \nFree event.[/vc_column_text][/vc_column][/vc_row]
URL:https://godalming-tc.gov.uk/event/godalming-library-of-things/2026-07-22/
LOCATION:Godalming Library\, Bridge Street\, Godalming\, GU7 1HT\, United Kingdom
CATEGORIES:Free
ATTACH;FMTTYPE=image/jpeg:https://godalming-tc.gov.uk/wp-content/uploads/2026/01/Logo-What-Next-Web-Event-New-i-scaled.jpg
GEO:51.186564;-0.6094289
X-APPLE-STRUCTURED-LOCATION;VALUE=URI;X-ADDRESS=Godalming Library Bridge Street Godalming GU7 1HT United Kingdom;X-APPLE-RADIUS=500;X-TITLE=Bridge Street:geo:-0.6094289,51.186564
END:VEVENT
BEGIN:VEVENT
DTSTART;TZID=Europe/London:20260724T173000
DTEND;TZID=Europe/London:20260724T200000
DTSTAMP:20260421T060313
CREATED:20260108T101837Z
LAST-MODIFIED:20260108T111928Z
UID:10003813-1784914200-1784923200@godalming-tc.gov.uk
SUMMARY:Climate Club
DESCRIPTION:[vc_row][vc_column][vc_column_text css=”” css_params=””]WhatNext? hosts a conversation and a shared supper at the Denningberg Rooms\, Bridge Street\, Godalming\, GU7 1HP.  Bring some food and drink to share and join in with our environmental themes. \n17:30 – arrive early if you want to prepare food in the venue\n18:00 – social\n18:30 – sit down to eat\n19:00 – talk or discussion \nCome when it suits you \nThis is a bi-monthly event\, every 2nd and 4th Friday. \nThis is free event.[/vc_column_text][vc_single_image image=”36335″ img_size=”800×500″ alignment=”center” css=”” css_params=””][/vc_column][/vc_row]
URL:https://godalming-tc.gov.uk/event/climate-club-2/2026-07-24/
LOCATION:The Denningberg Centre\, Bridge Street\, Godalming\, Surrey\, GU7 1HP\, United Kingdom
CATEGORIES:Free
ATTACH;FMTTYPE=image/jpeg:https://godalming-tc.gov.uk/wp-content/uploads/2026/01/Logo-What-Next-Web-Event-New-i-scaled.jpg
GEO:51.186279;-0.6098409
X-APPLE-STRUCTURED-LOCATION;VALUE=URI;X-ADDRESS=The Denningberg Centre Bridge Street Godalming Surrey GU7 1HP United Kingdom;X-APPLE-RADIUS=500;X-TITLE=Bridge Street:geo:-0.6098409,51.186279
END:VEVENT
BEGIN:VEVENT
DTSTART;TZID=Europe/London:20260729T140000
DTEND;TZID=Europe/London:20260729T160000
DTSTAMP:20260421T060313
CREATED:20260109T112304Z
LAST-MODIFIED:20260109T122933Z
UID:10003917-1785333600-1785340800@godalming-tc.gov.uk
SUMMARY:Godalming Library of Things
DESCRIPTION:[vc_row][vc_column][vc_column_text css=”” css_params=””]Come and learn about the Godalming Library of Things\, 115 items you can borrow for free. \nVolunteers are at the Library every Wednesday afternoon and you can find out about all the other activities that What Next runs. \nAlso\, if you would like to discuss your thoughts about the climate we would be happy to listen. \nFree event.[/vc_column_text][/vc_column][/vc_row]
URL:https://godalming-tc.gov.uk/event/godalming-library-of-things/2026-07-29/
LOCATION:Godalming Library\, Bridge Street\, Godalming\, GU7 1HT\, United Kingdom
CATEGORIES:Free
ATTACH;FMTTYPE=image/jpeg:https://godalming-tc.gov.uk/wp-content/uploads/2026/01/Logo-What-Next-Web-Event-New-i-scaled.jpg
GEO:51.186564;-0.6094289
X-APPLE-STRUCTURED-LOCATION;VALUE=URI;X-ADDRESS=Godalming Library Bridge Street Godalming GU7 1HT United Kingdom;X-APPLE-RADIUS=500;X-TITLE=Bridge Street:geo:-0.6094289,51.186564
END:VEVENT
END:VCALENDAR