BEGIN:VCALENDAR
VERSION:2.0
PRODID:-//Godalming Town Council - ECPv6.15.20//NONSGML v1.0//EN
CALSCALE:GREGORIAN
METHOD:PUBLISH
X-WR-CALNAME:Godalming Town Council
X-ORIGINAL-URL:https://godalming-tc.gov.uk
X-WR-CALDESC:Events for Godalming Town Council
REFRESH-INTERVAL;VALUE=DURATION:PT1H
X-Robots-Tag:noindex
X-PUBLISHED-TTL:PT1H
BEGIN:VTIMEZONE
TZID:Europe/London
BEGIN:DAYLIGHT
TZOFFSETFROM:+0000
TZOFFSETTO:+0100
TZNAME:BST
DTSTART:20250330T010000
END:DAYLIGHT
BEGIN:STANDARD
TZOFFSETFROM:+0100
TZOFFSETTO:+0000
TZNAME:GMT
DTSTART:20251026T010000
END:STANDARD
BEGIN:DAYLIGHT
TZOFFSETFROM:+0000
TZOFFSETTO:+0100
TZNAME:BST
DTSTART:20260329T010000
END:DAYLIGHT
BEGIN:STANDARD
TZOFFSETFROM:+0100
TZOFFSETTO:+0000
TZNAME:GMT
DTSTART:20261025T010000
END:STANDARD
BEGIN:DAYLIGHT
TZOFFSETFROM:+0000
TZOFFSETTO:+0100
TZNAME:BST
DTSTART:20270328T010000
END:DAYLIGHT
BEGIN:STANDARD
TZOFFSETFROM:+0100
TZOFFSETTO:+0000
TZNAME:GMT
DTSTART:20271031T010000
END:STANDARD
END:VTIMEZONE
BEGIN:VEVENT
DTSTART;TZID=Europe/London:20260902T140000
DTEND;TZID=Europe/London:20260902T160000
DTSTAMP:20260421T084443
CREATED:20260109T112304Z
LAST-MODIFIED:20260109T122933Z
UID:10003922-1788357600-1788364800@godalming-tc.gov.uk
SUMMARY:Godalming Library of Things
DESCRIPTION:[vc_row][vc_column][vc_column_text css=”” css_params=””]Come and learn about the Godalming Library of Things\, 115 items you can borrow for free. \nVolunteers are at the Library every Wednesday afternoon and you can find out about all the other activities that What Next runs. \nAlso\, if you would like to discuss your thoughts about the climate we would be happy to listen. \nFree event.[/vc_column_text][/vc_column][/vc_row]
URL:https://godalming-tc.gov.uk/event/godalming-library-of-things/2026-09-02/
LOCATION:Godalming Library\, Bridge Street\, Godalming\, GU7 1HT\, United Kingdom
CATEGORIES:Free
ATTACH;FMTTYPE=image/jpeg:https://godalming-tc.gov.uk/wp-content/uploads/2026/01/Logo-What-Next-Web-Event-New-i-scaled.jpg
GEO:51.186564;-0.6094289
X-APPLE-STRUCTURED-LOCATION;VALUE=URI;X-ADDRESS=Godalming Library Bridge Street Godalming GU7 1HT United Kingdom;X-APPLE-RADIUS=500;X-TITLE=Bridge Street:geo:-0.6094289,51.186564
END:VEVENT
BEGIN:VEVENT
DTSTART;TZID=Europe/London:20260909T140000
DTEND;TZID=Europe/London:20260909T160000
DTSTAMP:20260421T084443
CREATED:20260109T112304Z
LAST-MODIFIED:20260109T122933Z
UID:10003923-1788962400-1788969600@godalming-tc.gov.uk
SUMMARY:Godalming Library of Things
DESCRIPTION:[vc_row][vc_column][vc_column_text css=”” css_params=””]Come and learn about the Godalming Library of Things\, 115 items you can borrow for free. \nVolunteers are at the Library every Wednesday afternoon and you can find out about all the other activities that What Next runs. \nAlso\, if you would like to discuss your thoughts about the climate we would be happy to listen. \nFree event.[/vc_column_text][/vc_column][/vc_row]
URL:https://godalming-tc.gov.uk/event/godalming-library-of-things/2026-09-09/
LOCATION:Godalming Library\, Bridge Street\, Godalming\, GU7 1HT\, United Kingdom
CATEGORIES:Free
ATTACH;FMTTYPE=image/jpeg:https://godalming-tc.gov.uk/wp-content/uploads/2026/01/Logo-What-Next-Web-Event-New-i-scaled.jpg
GEO:51.186564;-0.6094289
X-APPLE-STRUCTURED-LOCATION;VALUE=URI;X-ADDRESS=Godalming Library Bridge Street Godalming GU7 1HT United Kingdom;X-APPLE-RADIUS=500;X-TITLE=Bridge Street:geo:-0.6094289,51.186564
END:VEVENT
BEGIN:VEVENT
DTSTART;TZID=Europe/London:20260911T173000
DTEND;TZID=Europe/London:20260911T200000
DTSTAMP:20260421T084443
CREATED:20260108T101454Z
LAST-MODIFIED:20260108T111711Z
UID:10003767-1789147800-1789156800@godalming-tc.gov.uk
SUMMARY:Climate Club
DESCRIPTION:[vc_row][vc_column][vc_column_text css=”” css_params=””]WhatNext? hosts a conversation and a shared supper at the Denningberg Rooms\, Bridge Street\, Godalming\, GU7 1HP.  Bring some food and drink to share and join in with our environmental themes. \n17:30 – arrive early if you want to prepare food in the venue\n18:00 – social\n18:30 – sit down to eat\n19:00 – talk or discussion \nCome when it suits you \nThis is a bi-monthly event\, every 2nd and 4th Friday. \nThis is free event.[/vc_column_text][vc_single_image image=”36335″ img_size=”800×500″ alignment=”center” css=”” css_params=””][/vc_column][/vc_row]
URL:https://godalming-tc.gov.uk/event/climate-club/2026-09-11/
LOCATION:The Denningberg Centre\, Bridge Street\, Godalming\, Surrey\, GU7 1HP\, United Kingdom
CATEGORIES:Free
ATTACH;FMTTYPE=image/jpeg:https://godalming-tc.gov.uk/wp-content/uploads/2026/01/Logo-What-Next-Web-Event-New-i-scaled.jpg
GEO:51.186279;-0.6098409
X-APPLE-STRUCTURED-LOCATION;VALUE=URI;X-ADDRESS=The Denningberg Centre Bridge Street Godalming Surrey GU7 1HP United Kingdom;X-APPLE-RADIUS=500;X-TITLE=Bridge Street:geo:-0.6098409,51.186279
END:VEVENT
BEGIN:VEVENT
DTSTART;TZID=Europe/London:20260916T140000
DTEND;TZID=Europe/London:20260916T160000
DTSTAMP:20260421T084443
CREATED:20260109T112304Z
LAST-MODIFIED:20260109T122933Z
UID:10003924-1789567200-1789574400@godalming-tc.gov.uk
SUMMARY:Godalming Library of Things
DESCRIPTION:[vc_row][vc_column][vc_column_text css=”” css_params=””]Come and learn about the Godalming Library of Things\, 115 items you can borrow for free. \nVolunteers are at the Library every Wednesday afternoon and you can find out about all the other activities that What Next runs. \nAlso\, if you would like to discuss your thoughts about the climate we would be happy to listen. \nFree event.[/vc_column_text][/vc_column][/vc_row]
URL:https://godalming-tc.gov.uk/event/godalming-library-of-things/2026-09-16/
LOCATION:Godalming Library\, Bridge Street\, Godalming\, GU7 1HT\, United Kingdom
CATEGORIES:Free
ATTACH;FMTTYPE=image/jpeg:https://godalming-tc.gov.uk/wp-content/uploads/2026/01/Logo-What-Next-Web-Event-New-i-scaled.jpg
GEO:51.186564;-0.6094289
X-APPLE-STRUCTURED-LOCATION;VALUE=URI;X-ADDRESS=Godalming Library Bridge Street Godalming GU7 1HT United Kingdom;X-APPLE-RADIUS=500;X-TITLE=Bridge Street:geo:-0.6094289,51.186564
END:VEVENT
BEGIN:VEVENT
DTSTART;TZID=Europe/London:20260923T140000
DTEND;TZID=Europe/London:20260923T160000
DTSTAMP:20260421T084443
CREATED:20260109T112304Z
LAST-MODIFIED:20260109T122933Z
UID:10003925-1790172000-1790179200@godalming-tc.gov.uk
SUMMARY:Godalming Library of Things
DESCRIPTION:[vc_row][vc_column][vc_column_text css=”” css_params=””]Come and learn about the Godalming Library of Things\, 115 items you can borrow for free. \nVolunteers are at the Library every Wednesday afternoon and you can find out about all the other activities that What Next runs. \nAlso\, if you would like to discuss your thoughts about the climate we would be happy to listen. \nFree event.[/vc_column_text][/vc_column][/vc_row]
URL:https://godalming-tc.gov.uk/event/godalming-library-of-things/2026-09-23/
LOCATION:Godalming Library\, Bridge Street\, Godalming\, GU7 1HT\, United Kingdom
CATEGORIES:Free
ATTACH;FMTTYPE=image/jpeg:https://godalming-tc.gov.uk/wp-content/uploads/2026/01/Logo-What-Next-Web-Event-New-i-scaled.jpg
GEO:51.186564;-0.6094289
X-APPLE-STRUCTURED-LOCATION;VALUE=URI;X-ADDRESS=Godalming Library Bridge Street Godalming GU7 1HT United Kingdom;X-APPLE-RADIUS=500;X-TITLE=Bridge Street:geo:-0.6094289,51.186564
END:VEVENT
BEGIN:VEVENT
DTSTART;TZID=Europe/London:20260925T173000
DTEND;TZID=Europe/London:20260925T200000
DTSTAMP:20260421T084443
CREATED:20260108T101837Z
LAST-MODIFIED:20260108T111928Z
UID:10003815-1790357400-1790366400@godalming-tc.gov.uk
SUMMARY:Climate Club
DESCRIPTION:[vc_row][vc_column][vc_column_text css=”” css_params=””]WhatNext? hosts a conversation and a shared supper at the Denningberg Rooms\, Bridge Street\, Godalming\, GU7 1HP.  Bring some food and drink to share and join in with our environmental themes. \n17:30 – arrive early if you want to prepare food in the venue\n18:00 – social\n18:30 – sit down to eat\n19:00 – talk or discussion \nCome when it suits you \nThis is a bi-monthly event\, every 2nd and 4th Friday. \nThis is free event.[/vc_column_text][vc_single_image image=”36335″ img_size=”800×500″ alignment=”center” css=”” css_params=””][/vc_column][/vc_row]
URL:https://godalming-tc.gov.uk/event/climate-club-2/2026-09-25/
LOCATION:The Denningberg Centre\, Bridge Street\, Godalming\, Surrey\, GU7 1HP\, United Kingdom
CATEGORIES:Free
ATTACH;FMTTYPE=image/jpeg:https://godalming-tc.gov.uk/wp-content/uploads/2026/01/Logo-What-Next-Web-Event-New-i-scaled.jpg
GEO:51.186279;-0.6098409
X-APPLE-STRUCTURED-LOCATION;VALUE=URI;X-ADDRESS=The Denningberg Centre Bridge Street Godalming Surrey GU7 1HP United Kingdom;X-APPLE-RADIUS=500;X-TITLE=Bridge Street:geo:-0.6098409,51.186279
END:VEVENT
BEGIN:VEVENT
DTSTART;TZID=Europe/London:20260930T140000
DTEND;TZID=Europe/London:20260930T160000
DTSTAMP:20260421T084443
CREATED:20260109T112304Z
LAST-MODIFIED:20260109T122933Z
UID:10003926-1790776800-1790784000@godalming-tc.gov.uk
SUMMARY:Godalming Library of Things
DESCRIPTION:[vc_row][vc_column][vc_column_text css=”” css_params=””]Come and learn about the Godalming Library of Things\, 115 items you can borrow for free. \nVolunteers are at the Library every Wednesday afternoon and you can find out about all the other activities that What Next runs. \nAlso\, if you would like to discuss your thoughts about the climate we would be happy to listen. \nFree event.[/vc_column_text][/vc_column][/vc_row]
URL:https://godalming-tc.gov.uk/event/godalming-library-of-things/2026-09-30/
LOCATION:Godalming Library\, Bridge Street\, Godalming\, GU7 1HT\, United Kingdom
CATEGORIES:Free
ATTACH;FMTTYPE=image/jpeg:https://godalming-tc.gov.uk/wp-content/uploads/2026/01/Logo-What-Next-Web-Event-New-i-scaled.jpg
GEO:51.186564;-0.6094289
X-APPLE-STRUCTURED-LOCATION;VALUE=URI;X-ADDRESS=Godalming Library Bridge Street Godalming GU7 1HT United Kingdom;X-APPLE-RADIUS=500;X-TITLE=Bridge Street:geo:-0.6094289,51.186564
END:VEVENT
END:VCALENDAR