BEGIN:VCALENDAR
VERSION:2.0
PRODID:-//Godalming Town Council - ECPv6.15.20//NONSGML v1.0//EN
CALSCALE:GREGORIAN
METHOD:PUBLISH
X-WR-CALNAME:Godalming Town Council
X-ORIGINAL-URL:https://godalming-tc.gov.uk
X-WR-CALDESC:Events for Godalming Town Council
REFRESH-INTERVAL;VALUE=DURATION:PT1H
X-Robots-Tag:noindex
X-PUBLISHED-TTL:PT1H
BEGIN:VTIMEZONE
TZID:Europe/London
BEGIN:DAYLIGHT
TZOFFSETFROM:+0000
TZOFFSETTO:+0100
TZNAME:BST
DTSTART:20250330T010000
END:DAYLIGHT
BEGIN:STANDARD
TZOFFSETFROM:+0100
TZOFFSETTO:+0000
TZNAME:GMT
DTSTART:20251026T010000
END:STANDARD
BEGIN:DAYLIGHT
TZOFFSETFROM:+0000
TZOFFSETTO:+0100
TZNAME:BST
DTSTART:20260329T010000
END:DAYLIGHT
BEGIN:STANDARD
TZOFFSETFROM:+0100
TZOFFSETTO:+0000
TZNAME:GMT
DTSTART:20261025T010000
END:STANDARD
BEGIN:DAYLIGHT
TZOFFSETFROM:+0000
TZOFFSETTO:+0100
TZNAME:BST
DTSTART:20270328T010000
END:DAYLIGHT
BEGIN:STANDARD
TZOFFSETFROM:+0100
TZOFFSETTO:+0000
TZNAME:GMT
DTSTART:20271031T010000
END:STANDARD
END:VTIMEZONE
BEGIN:VEVENT
DTSTART;TZID=Europe/London:20260430T100000
DTEND;TZID=Europe/London:20260430T120000
DTSTAMP:20260421T015907
CREATED:20251117T105253Z
LAST-MODIFIED:20251117T105253Z
UID:10003734-1777543200-1777550400@godalming-tc.gov.uk
SUMMARY:"Hear Here" Hearing Aid Maintenance
DESCRIPTION:[vc_row][vc_column][vc_column_text css=”” css_params=””]Due to the Election on the 7 May this session has been moved to the 30 April 2026. \nNHS hearing aids can be brought for service the first Thursday of every month usually in the Church Room at St John’s Church\, Farncombe\, however due to the venue being used as a polling station this session will be held in the Farncombe Day Centre.  Please bring your brown book. \nThis free service is carried out by volunteers who have been trained by the NHS. \nFor more information please call 07818 582336[/vc_column_text][/vc_column][/vc_row]
URL:https://godalming-tc.gov.uk/event/hear-here-hearing-aid-maintenance-30-april-2026/
LOCATION:Farncombe Day Centre\, St John's Street\, Farncombe\, Surrey\, GU7 3EH\, United Kingdom
CATEGORIES:Health & Wellbeing
ATTACH;FMTTYPE=image/jpeg:https://godalming-tc.gov.uk/wp-content/uploads/2023/11/Hearing-Aid.jpg
ORGANIZER;CN="Sue Petty":MAILTO:johnpetty46@outlook.com
GEO:51.1951063;-0.6041738
X-APPLE-STRUCTURED-LOCATION;VALUE=URI;X-ADDRESS=Farncombe Day Centre St John's Street Farncombe Surrey GU7 3EH United Kingdom;X-APPLE-RADIUS=500;X-TITLE=St John's Street:geo:-0.6041738,51.1951063
END:VEVENT
END:VCALENDAR