BEGIN:VCALENDAR
VERSION:2.0
PRODID:-//Godalming Town Council - ECPv6.15.20//NONSGML v1.0//EN
CALSCALE:GREGORIAN
METHOD:PUBLISH
X-WR-CALNAME:Godalming Town Council
X-ORIGINAL-URL:https://godalming-tc.gov.uk
X-WR-CALDESC:Events for Godalming Town Council
REFRESH-INTERVAL;VALUE=DURATION:PT1H
X-Robots-Tag:noindex
X-PUBLISHED-TTL:PT1H
BEGIN:VTIMEZONE
TZID:Europe/London
BEGIN:DAYLIGHT
TZOFFSETFROM:+0000
TZOFFSETTO:+0100
TZNAME:BST
DTSTART:20220327T010000
END:DAYLIGHT
BEGIN:STANDARD
TZOFFSETFROM:+0100
TZOFFSETTO:+0000
TZNAME:GMT
DTSTART:20221030T010000
END:STANDARD
BEGIN:DAYLIGHT
TZOFFSETFROM:+0000
TZOFFSETTO:+0100
TZNAME:BST
DTSTART:20230326T010000
END:DAYLIGHT
BEGIN:STANDARD
TZOFFSETFROM:+0100
TZOFFSETTO:+0000
TZNAME:GMT
DTSTART:20231029T010000
END:STANDARD
BEGIN:DAYLIGHT
TZOFFSETFROM:+0000
TZOFFSETTO:+0100
TZNAME:BST
DTSTART:20240331T010000
END:DAYLIGHT
BEGIN:STANDARD
TZOFFSETFROM:+0100
TZOFFSETTO:+0000
TZNAME:GMT
DTSTART:20241027T010000
END:STANDARD
END:VTIMEZONE
BEGIN:VEVENT
DTSTART;TZID=Europe/London:20230602T180000
DTEND;TZID=Europe/London:20230602T200000
DTSTAMP:20260422T051619
CREATED:20230322T095709Z
LAST-MODIFIED:20230516T125837Z
UID:10002605-1685728800-1685736000@godalming-tc.gov.uk
SUMMARY:Music in the Park - Open Mike Sessions
DESCRIPTION:Go Godalming Association will be hosting Open Mike Sessions at the Godalming Bandstand on the first Friday of the month from June to September 2023. For more information\, contact the Go Godalming Association. \n\n\n\n  \n\n\n\n\n\n\n\n\n\n\n\n\n\n 
URL:https://godalming-tc.gov.uk/event/music-in-the-park-open-mike-sessions/2023-06-02/
LOCATION:Godalming Bandstand\, Phillips Memorial Park\, Godalming\, GU7 1HR\, United Kingdom
CATEGORIES:Live Music
ATTACH;FMTTYPE=image/jpeg:https://godalming-tc.gov.uk/wp-content/uploads/2023/03/Logo-Music-in-the-Park-2023-Small.jpg
ORGANIZER;CN="Go Godalming Association":MAILTO:secretary@gogodalming.org.uk
GEO:51.1871818;-0.6137577
X-APPLE-STRUCTURED-LOCATION;VALUE=URI;X-ADDRESS=Godalming Bandstand Phillips Memorial Park Godalming GU7 1HR United Kingdom;X-APPLE-RADIUS=500;X-TITLE=Phillips Memorial Park:geo:-0.6137577,51.1871818
END:VEVENT
BEGIN:VEVENT
DTSTART;TZID=Europe/London:20230604T150000
DTEND;TZID=Europe/London:20230604T170000
DTSTAMP:20260422T051619
CREATED:20230322T084049Z
LAST-MODIFIED:20230516T130513Z
UID:10002589-1685890800-1685898000@godalming-tc.gov.uk
SUMMARY:Music in the Park
DESCRIPTION:Go Godalming Association presents this week’s Music in the Park concert featuring the Horsham Borough Band. \n\n\n\nMusic in the Park concerts take place every Sunday afternoon (unless otherwise stated) and run from 30 April through to 17 September 2023. Please visit their website for more information. \n\n\n\nAll concerts are free – why not bring your own garden chairs and a picnic? \n\n\n\nIn the event of very wet weather\, concerts will be held in the nearby Godalming Parish Church. \n\n\n\nVoluntary donations are requested at concerts via collections run by volunteers. \n\n\n\n\n\n\n\n\n\n\n\n\n\n 
URL:https://godalming-tc.gov.uk/event/music-in-the-park-2/
LOCATION:Godalming Bandstand\, Phillips Memorial Park\, Godalming\, GU7 1HR\, United Kingdom
CATEGORIES:Live Music
ATTACH;FMTTYPE=image/jpeg:https://godalming-tc.gov.uk/wp-content/uploads/2023/03/Logo-Music-in-the-Park-2023-Small.jpg
ORGANIZER;CN="Go Godalming Association":MAILTO:secretary@gogodalming.org.uk
GEO:51.1871818;-0.6137577
X-APPLE-STRUCTURED-LOCATION;VALUE=URI;X-ADDRESS=Godalming Bandstand Phillips Memorial Park Godalming GU7 1HR United Kingdom;X-APPLE-RADIUS=500;X-TITLE=Phillips Memorial Park:geo:-0.6137577,51.1871818
END:VEVENT
BEGIN:VEVENT
DTSTART;TZID=Europe/London:20230611T150000
DTEND;TZID=Europe/London:20230611T170000
DTSTAMP:20260422T051619
CREATED:20230322T084204Z
LAST-MODIFIED:20230322T084207Z
UID:10002590-1686495600-1686502800@godalming-tc.gov.uk
SUMMARY:Music in the Park Dragonfly Office Interiors Concert
DESCRIPTION:Go Godalming Association presents this week’s Music in the Park concert featuring twentyfivemiles. \n\n\n\nMusic in the Park concerts take place every Sunday afternoon (unless otherwise stated) and run from 30 April through to 17 September 2023.  Please visit their website for more information. \n\n\n\nAll concerts are free – why not bring your own garden chairs and a picnic! \n\n\n\nIn the event of very wet weather\, concerts will be held in the nearby Godalming Parish Church. \n\n\n\nVoluntary donations are requested at concerts via collections run by volunteers.
URL:https://godalming-tc.gov.uk/event/music-in-the-park-dragonfly-office-interiors-concert/
LOCATION:Godalming Bandstand\, Phillips Memorial Park\, Godalming\, GU7 1HR\, United Kingdom
CATEGORIES:Live Music
ATTACH;FMTTYPE=image/jpeg:https://godalming-tc.gov.uk/wp-content/uploads/2023/03/Logo-Music-in-the-Park-2023-Small.jpg
ORGANIZER;CN="Go Godalming Association":MAILTO:secretary@gogodalming.org.uk
GEO:51.1871818;-0.6137577
X-APPLE-STRUCTURED-LOCATION;VALUE=URI;X-ADDRESS=Godalming Bandstand Phillips Memorial Park Godalming GU7 1HR United Kingdom;X-APPLE-RADIUS=500;X-TITLE=Phillips Memorial Park:geo:-0.6137577,51.1871818
END:VEVENT
BEGIN:VEVENT
DTSTART;TZID=Europe/London:20230617T193000
DTEND;TZID=Europe/London:20230617T220000
DTSTAMP:20260422T051619
CREATED:20230510T133422Z
LAST-MODIFIED:20230510T133425Z
UID:10002634-1687030200-1687039200@godalming-tc.gov.uk
SUMMARY:Midsummer Music
DESCRIPTION:Following their much acclaimed production of “The Pirates of Penzance”\, Godalming Operatic Society presents an uplifting concert of choruses\, ensembles and solos\, ranging from Mozart to Rodgers & Hammerstein and\, of course\, not forgetting Gilbert & Sullivan. With something for everyone\, this is an event not to be missed! \n\n\n\nWilfrid Noyce Community Centre\, Crown Court Godalming GU7 1DY Matinee 2:30  Evening 7:30  \n\n\n\nTickets: Adults £14  Under 18s £7 \n\n\n\nFor tickets please visit our website or phone Ticketsource on 0333 6663366
URL:https://godalming-tc.gov.uk/event/midsummer-music/
LOCATION:Wilfrid Noyce Centre\, Crown Court Car Park\, Godalming\, GU7 1DY\, United Kingdom
CATEGORIES:Live Music
ATTACH;FMTTYPE=image/jpeg:https://godalming-tc.gov.uk/wp-content/uploads/2022/04/Logo-Godalming-Operatic-Society-e1655278634613.jpg
ORGANIZER;CN="Godalming Operatic Society":MAILTO:https://www.ticketsource.co.uk/godalmingoperatic
GEO:51.1866829;-0.6126768
X-APPLE-STRUCTURED-LOCATION;VALUE=URI;X-ADDRESS=Wilfrid Noyce Centre Crown Court Car Park Godalming GU7 1DY United Kingdom;X-APPLE-RADIUS=500;X-TITLE=Crown Court Car Park:geo:-0.6126768,51.1866829
END:VEVENT
BEGIN:VEVENT
DTSTART;TZID=Europe/London:20230618T150000
DTEND;TZID=Europe/London:20230618T170000
DTSTAMP:20260422T051619
CREATED:20230322T084258Z
LAST-MODIFIED:20230322T084301Z
UID:10002591-1687100400-1687107600@godalming-tc.gov.uk
SUMMARY:Music in the Park The Green Hub Concert
DESCRIPTION:Go Godalming Association presents this week’s Music in the Park concert featuring The True Deceivers. \n\n\n\nMusic in the Park concerts take place every Sunday afternoon (unless otherwise stated) and run from 30 April through to 17 September 2023.  Please visit their website for more information. \n\n\n\nAll concerts are free – why not bring your own garden chairs and a picnic! \n\n\n\nIn the event of very wet weather\, concerts will be held in the nearby Godalming Parish Church. \n\n\n\nVoluntary donations are requested at concerts via collections run by volunteers.
URL:https://godalming-tc.gov.uk/event/music-in-the-park-the-green-hub-concert/
LOCATION:Godalming Bandstand\, Phillips Memorial Park\, Godalming\, GU7 1HR\, United Kingdom
CATEGORIES:Live Music
ATTACH;FMTTYPE=image/jpeg:https://godalming-tc.gov.uk/wp-content/uploads/2023/03/Logo-Music-in-the-Park-2023-Small.jpg
ORGANIZER;CN="Go Godalming Association":MAILTO:secretary@gogodalming.org.uk
GEO:51.1871818;-0.6137577
X-APPLE-STRUCTURED-LOCATION;VALUE=URI;X-ADDRESS=Godalming Bandstand Phillips Memorial Park Godalming GU7 1HR United Kingdom;X-APPLE-RADIUS=500;X-TITLE=Phillips Memorial Park:geo:-0.6137577,51.1871818
END:VEVENT
BEGIN:VEVENT
DTSTART;TZID=Europe/London:20230618T190000
DTEND;TZID=Europe/London:20230618T220000
DTSTAMP:20260422T051619
CREATED:20230413T154608Z
LAST-MODIFIED:20230516T130758Z
UID:10002619-1687114800-1687125600@godalming-tc.gov.uk
SUMMARY:Surrey Police Band in Concert
DESCRIPTION:Surrey Police Band will be performing a Concert on behalf of ABF – The Soldiers’ Charity on Sunday\, 18 June at 7.00pm in The Borough Hall\, Bridge Street\, Godalming GU7 1HR. \n\n\n\nThe Surrey Police Band are delighted to be supporting ABF The Soldiers’ Charity\, particularly during Armed Forces Week.  This concert will offer a varied programme of music to suit all tastes. \n\n\n\nDoor open 30 minutes prior to the performance.  Free Parking & licensed bar – Tickets £15.00 \n\n\n\nFor tickets and more information please visit our website
URL:https://godalming-tc.gov.uk/event/surrey-police-band-in-concert/
LOCATION:Borough Hall\, Bridge Street\, Godalming\, Surrey\, GU7 1HR\, United Kingdom
CATEGORIES:Live Music
ATTACH;FMTTYPE=image/jpeg:https://godalming-tc.gov.uk/wp-content/uploads/2023/04/Logo-Surrey-Police-new.jpg
GEO:51.186564;-0.6094289
X-APPLE-STRUCTURED-LOCATION;VALUE=URI;X-ADDRESS=Borough Hall Bridge Street Godalming Surrey GU7 1HR United Kingdom;X-APPLE-RADIUS=500;X-TITLE=Bridge Street:geo:-0.6094289,51.186564
END:VEVENT
BEGIN:VEVENT
DTSTART;TZID=Europe/London:20230625T150000
DTEND;TZID=Europe/London:20230625T170000
DTSTAMP:20260422T051619
CREATED:20230322T084403Z
LAST-MODIFIED:20230322T084406Z
UID:10002592-1687705200-1687712400@godalming-tc.gov.uk
SUMMARY:Music in the Park Shipleys LLP Concert
DESCRIPTION:Go Godalming Association presents this week’s Music in the Park concert featuring Junction 4 Big Band. \n\n\n\nMusic in the Park concerts take place every Sunday afternoon (unless otherwise stated) and run from 30 April through to 17 September 2023.  Please visit their website for more information. \n\n\n\nAll concerts are free – why not bring your own garden chairs and a picnic! \n\n\n\nIn the event of very wet weather\, concerts will be held in the nearby Godalming Parish Church. \n\n\n\nVoluntary donations are requested at concerts via collections run by volunteers.
URL:https://godalming-tc.gov.uk/event/music-in-the-park-shipleys-llp-concert/
LOCATION:Godalming Bandstand\, Phillips Memorial Park\, Godalming\, GU7 1HR\, United Kingdom
CATEGORIES:Live Music
ATTACH;FMTTYPE=image/jpeg:https://godalming-tc.gov.uk/wp-content/uploads/2023/03/Logo-Music-in-the-Park-2023-Small.jpg
ORGANIZER;CN="Go Godalming Association":MAILTO:secretary@gogodalming.org.uk
GEO:51.1871818;-0.6137577
X-APPLE-STRUCTURED-LOCATION;VALUE=URI;X-ADDRESS=Godalming Bandstand Phillips Memorial Park Godalming GU7 1HR United Kingdom;X-APPLE-RADIUS=500;X-TITLE=Phillips Memorial Park:geo:-0.6137577,51.1871818
END:VEVENT
END:VCALENDAR