BEGIN:VCALENDAR
VERSION:2.0
PRODID:-//Godalming Town Council - ECPv6.15.20//NONSGML v1.0//EN
CALSCALE:GREGORIAN
METHOD:PUBLISH
X-ORIGINAL-URL:https://godalming-tc.gov.uk
X-WR-CALDESC:Events for Godalming Town Council
REFRESH-INTERVAL;VALUE=DURATION:PT1H
X-Robots-Tag:noindex
X-PUBLISHED-TTL:PT1H
BEGIN:VTIMEZONE
TZID:Europe/London
BEGIN:DAYLIGHT
TZOFFSETFROM:+0000
TZOFFSETTO:+0100
TZNAME:BST
DTSTART:20230326T010000
END:DAYLIGHT
BEGIN:STANDARD
TZOFFSETFROM:+0100
TZOFFSETTO:+0000
TZNAME:GMT
DTSTART:20231029T010000
END:STANDARD
BEGIN:DAYLIGHT
TZOFFSETFROM:+0000
TZOFFSETTO:+0100
TZNAME:BST
DTSTART:20240331T010000
END:DAYLIGHT
BEGIN:STANDARD
TZOFFSETFROM:+0100
TZOFFSETTO:+0000
TZNAME:GMT
DTSTART:20241027T010000
END:STANDARD
BEGIN:DAYLIGHT
TZOFFSETFROM:+0000
TZOFFSETTO:+0100
TZNAME:BST
DTSTART:20250330T010000
END:DAYLIGHT
BEGIN:STANDARD
TZOFFSETFROM:+0100
TZOFFSETTO:+0000
TZNAME:GMT
DTSTART:20251026T010000
END:STANDARD
END:VTIMEZONE
BEGIN:VTIMEZONE
TZID:UTC
BEGIN:STANDARD
TZOFFSETFROM:+0000
TZOFFSETTO:+0000
TZNAME:UTC
DTSTART:20230101T000000
END:STANDARD
END:VTIMEZONE
BEGIN:VEVENT
DTSTART;TZID=Europe/London:20240505T150000
DTEND;TZID=Europe/London:20240505T170000
DTSTAMP:20260421T104621
CREATED:20240422T103222Z
LAST-MODIFIED:20240422T104020Z
UID:10002932-1714921200-1714928400@godalming-tc.gov.uk
SUMMARY:Music in the Park - May Day Celebrations
DESCRIPTION:Go Godalming Association presents its first Music in the Park concert of the season for this May Day Celebration featuring Stockbrokers Belt Ceilidh Band with the Fleur de Lys Morris Dancers. \n\n\n\nMusic in the Park concerts take place every Sunday afternoon (unless otherwise stated) and run from 5 May through to 15 September 2024. Please visit their website for more information. \n\n\n\nAll concerts are free – why not bring your own garden chairs and a picnic! \n\n\n\nIn the event of very wet weather\, concerts will be held in the nearby Godalming Parish Church. \n\n\n\nVoluntary donations are requested at concerts via collections run by volunteers. \n\n\n\n\n\n\n\n\n\n\n\n\n\n 
URL:https://godalming-tc.gov.uk/event/music-in-the-park-may-day-celebrations-2024/
LOCATION:Godalming Bandstand\, Phillips Memorial Park\, Godalming\, GU7 1HR\, United Kingdom
CATEGORIES:Live Music
ATTACH;FMTTYPE=image/jpeg:https://godalming-tc.gov.uk/wp-content/uploads/2024/04/Logo-Music-in-the-Park-2024-scaled.jpg
ORGANIZER;CN="Go Godalming Association":MAILTO:secretary@gogodalming.org.uk
GEO:51.1871818;-0.6137577
X-APPLE-STRUCTURED-LOCATION;VALUE=URI;X-ADDRESS=Godalming Bandstand Phillips Memorial Park Godalming GU7 1HR United Kingdom;X-APPLE-RADIUS=500;X-TITLE=Phillips Memorial Park:geo:-0.6137577,51.1871818
END:VEVENT
BEGIN:VEVENT
DTSTART;TZID=Europe/London:20240511T150000
DTEND;TZID=Europe/London:20240511T170000
DTSTAMP:20260421T104621
CREATED:20230321T144725Z
LAST-MODIFIED:20240422T103911Z
UID:10002585-1715439600-1715446800@godalming-tc.gov.uk
SUMMARY:Music in the Park
DESCRIPTION:Go Godalming Association presents this week’s Music in the Park concert featuring the Charterhouse Jazz Band. \n\n\n\nMusic in the Park concerts take place every Sunday afternoon (unless otherwise stated) and run from 5 May through to 15 September 2024. Please visit their website for more information. \n\n\n\nAll concerts are free – why not bring your own garden chairs and a picnic! \n\n\n\nIn the event of very wet weather\, concerts will be held in the nearby Godalming Parish Church. \n\n\n\nVoluntary donations are requested at concerts via collections run by volunteers. \n\n\n\n\n\n\n\n\n\n\n\n\n\n 
URL:https://godalming-tc.gov.uk/event/music-in-the-park/
LOCATION:Godalming Bandstand\, Phillips Memorial Park\, Godalming\, GU7 1HR\, United Kingdom
CATEGORIES:Live Music
ATTACH;FMTTYPE=image/jpeg:https://godalming-tc.gov.uk/wp-content/uploads/2024/04/Logo-Music-in-the-Park-2024-scaled.jpg
ORGANIZER;CN="Go Godalming Association":MAILTO:secretary@gogodalming.org.uk
GEO:51.1871818;-0.6137577
X-APPLE-STRUCTURED-LOCATION;VALUE=URI;X-ADDRESS=Godalming Bandstand Phillips Memorial Park Godalming GU7 1HR United Kingdom;X-APPLE-RADIUS=500;X-TITLE=Phillips Memorial Park:geo:-0.6137577,51.1871818
END:VEVENT
BEGIN:VEVENT
DTSTART;TZID=UTC:20240512T150000
DTEND;TZID=UTC:20240512T170000
DTSTAMP:20260421T104621
CREATED:20240422T104719Z
LAST-MODIFIED:20240422T104719Z
UID:10002933-1715526000-1715533200@godalming-tc.gov.uk
SUMMARY:Music in the Park - Charity Concert for the Dan Eley Foundation
DESCRIPTION:Charity Concert in aid of the Dan Eley Foundation featuring the Godalming College Bands. \nDifferent bands playing every week\, (Programme).  Please click here for more details of this year’s Music in the Park. \nEvery Sunday afternoon 3-5pm (unless stated otherwise) on The Bandstand in the Phillips Memorial park by the river. \nAll concerts are FREE – why not bring your own garden chairs and a picnic! \nIn the event of very wet weather\, concerts will be held in the nearby Godalming Parish Church. \nVoluntary donations are requested at concerts via collections run by our volunteers to help finance the hire of The Bandstand and additional costs associated with providing concerts. \n  \n 
URL:https://godalming-tc.gov.uk/event/music-in-the-park-charity-concert-for-the-dan-eley-foundation-2/
LOCATION:Godalming Bandstand\, Phillips Memorial Park\, Godalming\, GU7 1HR\, United Kingdom
CATEGORIES:Live Music
ATTACH;FMTTYPE=image/jpeg:https://godalming-tc.gov.uk/wp-content/uploads/2024/04/Logo-Music-in-the-Park-2024-scaled.jpg
ORGANIZER;CN="Go Godalming Association":MAILTO:secretary@gogodalming.org.uk
GEO:51.1871818;-0.6137577
X-APPLE-STRUCTURED-LOCATION;VALUE=URI;X-ADDRESS=Godalming Bandstand Phillips Memorial Park Godalming GU7 1HR United Kingdom;X-APPLE-RADIUS=500;X-TITLE=Phillips Memorial Park:geo:-0.6137577,51.1871818
END:VEVENT
BEGIN:VEVENT
DTSTART;TZID=Europe/London:20240518T150000
DTEND;TZID=Europe/London:20240518T170000
DTSTAMP:20260421T104621
CREATED:20240422T105044Z
LAST-MODIFIED:20240422T105044Z
UID:10002934-1716044400-1716051600@godalming-tc.gov.uk
SUMMARY:Music in the Park - The Blues Cafe
DESCRIPTION:Go Godalming Association presents this week’s Music in the Park concert featuring Blues Cafe. \n\n\n\nMusic in the Park concerts take place every Sunday afternoon (unless otherwise stated) and run from 5 May through to 15 September 2024. Please visit their website for more information. \n\n\n\nAll concerts are free – why not bring your own garden chairs and a picnic! \n\n\n\nIn the event of very wet weather\, concerts will be held in the nearby Godalming Parish Church. \n\n\n\nVoluntary donations are requested at concerts via collections run by volunteers. \n\n\n\n\n\n\n\n\n\n\n\n\n\n 
URL:https://godalming-tc.gov.uk/event/music-in-the-park-the-blues-cafe/
LOCATION:Godalming Bandstand\, Phillips Memorial Park\, Godalming\, GU7 1HR\, United Kingdom
CATEGORIES:Live Music
ATTACH;FMTTYPE=image/jpeg:https://godalming-tc.gov.uk/wp-content/uploads/2024/04/Logo-Music-in-the-Park-2024-scaled.jpg
ORGANIZER;CN="Go Godalming Association":MAILTO:secretary@gogodalming.org.uk
GEO:51.1871818;-0.6137577
X-APPLE-STRUCTURED-LOCATION;VALUE=URI;X-ADDRESS=Godalming Bandstand Phillips Memorial Park Godalming GU7 1HR United Kingdom;X-APPLE-RADIUS=500;X-TITLE=Phillips Memorial Park:geo:-0.6137577,51.1871818
END:VEVENT
BEGIN:VEVENT
DTSTART;TZID=Europe/London:20240519T150000
DTEND;TZID=Europe/London:20240519T170000
DTSTAMP:20260421T104621
CREATED:20240422T105246Z
LAST-MODIFIED:20240422T105246Z
UID:10002935-1716130800-1716138000@godalming-tc.gov.uk
SUMMARY:Music in the Park Godalming Funeral Service Concert
DESCRIPTION:Go Godalming Association presents this week’s Music in the Park concert featuring Rock Choir and Acoustic Duo. \n\n\n\nMusic in the Park concerts take place every Sunday afternoon (unless otherwise stated) and run from 5 May through to 15 September 2024. Please visit their website for more information. \n\n\n\nAll concerts are free – why not bring your own garden chairs and a picnic! \n\n\n\nIn the event of very wet weather\, concerts will be held in the nearby Godalming Parish Church. \n\n\n\nVoluntary donations are requested at concerts via collections run by volunteers. \n\n\n\n\n\n\n\n\n\n\n\n\n\n 
URL:https://godalming-tc.gov.uk/event/music-in-the-park-godalming-funeral-service-concert-2/
LOCATION:Godalming Bandstand\, Phillips Memorial Park\, Godalming\, GU7 1HR\, United Kingdom
CATEGORIES:Live Music
ATTACH;FMTTYPE=image/jpeg:https://godalming-tc.gov.uk/wp-content/uploads/2024/04/Logo-Music-in-the-Park-2024-scaled.jpg
ORGANIZER;CN="Go Godalming Association":MAILTO:secretary@gogodalming.org.uk
GEO:51.1871818;-0.6137577
X-APPLE-STRUCTURED-LOCATION;VALUE=URI;X-ADDRESS=Godalming Bandstand Phillips Memorial Park Godalming GU7 1HR United Kingdom;X-APPLE-RADIUS=500;X-TITLE=Phillips Memorial Park:geo:-0.6137577,51.1871818
END:VEVENT
BEGIN:VEVENT
DTSTART;TZID=Europe/London:20240526T150000
DTEND;TZID=Europe/London:20240526T170000
DTSTAMP:20260421T104621
CREATED:20240422T105512Z
LAST-MODIFIED:20240422T105532Z
UID:10002936-1716735600-1716742800@godalming-tc.gov.uk
SUMMARY:Music in the Park - Blue Dot Printers Concert
DESCRIPTION:Go Godalming Association presents this week’s Music in the Park concert featuring Squeezebox. \n\n\n\nMusic in the Park concerts take place every Sunday afternoon (unless otherwise stated) and run from 5 May through to 15 September 2024. Please visit their website for more information. \n\n\n\nAll concerts are free – why not bring your own garden chairs and a picnic! \n\n\n\nIn the event of very wet weather\, concerts will be held in the nearby Godalming Parish Church. \n\n\n\nVoluntary donations are requested at concerts via collections run by volunteers. \n\n\n\n\n\n\n\n\n\n\n\n\n\n 
URL:https://godalming-tc.gov.uk/event/music-in-the-park-blue-dot-printers-concert-3/
LOCATION:Godalming Bandstand\, Phillips Memorial Park\, Godalming\, GU7 1HR\, United Kingdom
CATEGORIES:Live Music
ATTACH;FMTTYPE=image/jpeg:https://godalming-tc.gov.uk/wp-content/uploads/2024/04/Logo-Music-in-the-Park-2024-scaled.jpg
ORGANIZER;CN="Go Godalming Association":MAILTO:secretary@gogodalming.org.uk
GEO:51.1871818;-0.6137577
X-APPLE-STRUCTURED-LOCATION;VALUE=URI;X-ADDRESS=Godalming Bandstand Phillips Memorial Park Godalming GU7 1HR United Kingdom;X-APPLE-RADIUS=500;X-TITLE=Phillips Memorial Park:geo:-0.6137577,51.1871818
END:VEVENT
END:VCALENDAR