BEGIN:VCALENDAR
VERSION:2.0
PRODID:-//Godalming Town Council - ECPv6.15.20//NONSGML v1.0//EN
CALSCALE:GREGORIAN
METHOD:PUBLISH
X-WR-CALNAME:Godalming Town Council
X-ORIGINAL-URL:https://godalming-tc.gov.uk
X-WR-CALDESC:Events for Godalming Town Council
REFRESH-INTERVAL;VALUE=DURATION:PT1H
X-Robots-Tag:noindex
X-PUBLISHED-TTL:PT1H
BEGIN:VTIMEZONE
TZID:UTC
BEGIN:STANDARD
TZOFFSETFROM:+0000
TZOFFSETTO:+0000
TZNAME:UTC
DTSTART:20200101T000000
END:STANDARD
END:VTIMEZONE
BEGIN:VEVENT
DTSTART;TZID=UTC:20210401T183000
DTEND;TZID=UTC:20210401T191500
DTSTAMP:20260421T144236
CREATED:20191003T094150Z
LAST-MODIFIED:20210121T092628Z
UID:10001962-1617301800-1617304500@godalming-tc.gov.uk
SUMMARY:Environment & Planning Committee
DESCRIPTION:A committee meeting to address and formulate policy for consideration by the Council to discharge the Council’s functions relating to the local environment and infrastructure. The agenda will be published the Monday before the meeting on our agendas and minutes page.
URL:https://godalming-tc.gov.uk/event/environment-planning-committee-2021-4-1/
LOCATION:Zoom\, United Kingdom
CATEGORIES:Council Meetings,Environment & Planning Committee
ATTACH;FMTTYPE=image/jpeg:https://godalming-tc.gov.uk/wp-content/uploads/2016/03/GTC-Crest-Colour-e1467132725337.jpg
ORGANIZER;CN="Godalming Town Council":MAILTO:office@godalming-tc.gov.uk
END:VEVENT
BEGIN:VEVENT
DTSTART;TZID=UTC:20210401T183000
DTEND;TZID=UTC:20210401T191500
DTSTAMP:20260421T144236
CREATED:20191003T094150Z
LAST-MODIFIED:20191003T094150Z
UID:10001963-1617301800-1617304500@godalming-tc.gov.uk
SUMMARY:Environment & Planning Committee
DESCRIPTION:A committee meeting to address and formulate policy for consideration by the Council to discharge the Council’s functions relating to the local environment and infrastructure. The agenda will be published the Monday before the meeting on our agendas and minutes page.
URL:https://godalming-tc.gov.uk/event/environment-planning-committee-2021-4-1-2/
LOCATION:Zoom\, United Kingdom
CATEGORIES:Council Meetings,Environment & Planning Committee
ATTACH;FMTTYPE=image/jpeg:https://godalming-tc.gov.uk/wp-content/uploads/2016/03/GTC-Crest-Colour-e1467132725337.jpg
ORGANIZER;CN="Godalming Town Council":MAILTO:office@godalming-tc.gov.uk
END:VEVENT
BEGIN:VEVENT
DTSTART;TZID=UTC:20210401T183000
DTEND;TZID=UTC:20210401T191500
DTSTAMP:20260421T144236
CREATED:20191003T094150Z
LAST-MODIFIED:20191003T094150Z
UID:10001964-1617301800-1617304500@godalming-tc.gov.uk
SUMMARY:Environment & Planning Committee
DESCRIPTION:A committee meeting to address and formulate policy for consideration by the Council to discharge the Council’s functions relating to the local environment and infrastructure. The agenda will be published the Monday before the meeting on our agendas and minutes page.
URL:https://godalming-tc.gov.uk/event/environment-planning-committee-2021-4-1-3/
LOCATION:Zoom\, United Kingdom
CATEGORIES:Council Meetings,Environment & Planning Committee
ATTACH;FMTTYPE=image/jpeg:https://godalming-tc.gov.uk/wp-content/uploads/2016/03/GTC-Crest-Colour-e1467132725337.jpg
ORGANIZER;CN="Godalming Town Council":MAILTO:office@godalming-tc.gov.uk
END:VEVENT
BEGIN:VEVENT
DTSTART;TZID=UTC:20210401T193000
DTEND;TZID=UTC:20210401T203000
DTSTAMP:20260421T144236
CREATED:20191003T101937Z
LAST-MODIFIED:20201218T122920Z
UID:10002042-1617305400-1617309000@godalming-tc.gov.uk
SUMMARY:Full Council - Zoom Meeting
DESCRIPTION:A meeting of Godalming Town Council – a formal meeting to accept and ratify reports from each of the Council’s Committees. \n 
URL:https://godalming-tc.gov.uk/event/full-council-2021-4/
LOCATION:Zoom\, United Kingdom
CATEGORIES:Council Meetings
ATTACH;FMTTYPE=image/jpeg:https://godalming-tc.gov.uk/wp-content/uploads/2016/03/GTC-Crest-Colour-e1467132725337.jpg
END:VEVENT
BEGIN:VEVENT
DTSTART;TZID=UTC:20210401T193000
DTEND;TZID=UTC:20210401T203000
DTSTAMP:20260421T144236
CREATED:20191003T101937Z
LAST-MODIFIED:20191003T101937Z
UID:10002045-1617305400-1617309000@godalming-tc.gov.uk
SUMMARY:Full Council - Zoom Meeting
DESCRIPTION:A meeting of Godalming Town Council – a formal meeting to accept and ratify reports from each of the Council’s Committees. \n 
URL:https://godalming-tc.gov.uk/event/full-council-2021-4-2/
LOCATION:Zoom\, United Kingdom
CATEGORIES:Council Meetings
ATTACH;FMTTYPE=image/jpeg:https://godalming-tc.gov.uk/wp-content/uploads/2016/03/GTC-Crest-Colour-e1467132725337.jpg
END:VEVENT
BEGIN:VEVENT
DTSTART;TZID=UTC:20210401T193000
DTEND;TZID=UTC:20210401T203000
DTSTAMP:20260421T144236
CREATED:20191003T101937Z
LAST-MODIFIED:20191003T101937Z
UID:10002048-1617305400-1617309000@godalming-tc.gov.uk
SUMMARY:Full Council - Zoom Meeting
DESCRIPTION:A meeting of Godalming Town Council – a formal meeting to accept and ratify reports from each of the Council’s Committees. \n 
URL:https://godalming-tc.gov.uk/event/full-council-2021-4-3/
LOCATION:Zoom\, United Kingdom
CATEGORIES:Council Meetings
ATTACH;FMTTYPE=image/jpeg:https://godalming-tc.gov.uk/wp-content/uploads/2016/03/GTC-Crest-Colour-e1467132725337.jpg
END:VEVENT
BEGIN:VEVENT
DTSTART;TZID=UTC:20210408T180000
DTEND;TZID=UTC:20210408T190000
DTSTAMP:20260421T144236
CREATED:20191003T103023Z
LAST-MODIFIED:20201218T123013Z
UID:10002056-1617904800-1617908400@godalming-tc.gov.uk
SUMMARY:Joint Burial Committee
DESCRIPTION:A meeting of the Committee that manages the town’s two cemeteries
URL:https://godalming-tc.gov.uk/event/joint-burial-committee-2021-4/
LOCATION:Zoom\, United Kingdom
CATEGORIES:Council Meetings,Joint Burial Committee
ATTACH;FMTTYPE=image/jpeg:https://godalming-tc.gov.uk/wp-content/uploads/2020/05/Logo-JBC-Colour-e1588758722357.jpg
END:VEVENT
BEGIN:VEVENT
DTSTART;TZID=UTC:20210408T180000
DTEND;TZID=UTC:20210408T190000
DTSTAMP:20260421T144236
CREATED:20191003T103023Z
LAST-MODIFIED:20191003T103023Z
UID:10002060-1617904800-1617908400@godalming-tc.gov.uk
SUMMARY:Joint Burial Committee
DESCRIPTION:A meeting of the Committee that manages the town’s two cemeteries. \nIf you wish to speak at this meeting please contact Godalming Town Council on 01483 523575 or email of****@**************ov.uk \nIf you wish to watch the council meeting’s proceedings\, please go to Godalming Town Council’s Facebook page\, alternatively please contact of****@**************ov.uk by 5.00pm on 8 April 2021 for alternative options.
URL:https://godalming-tc.gov.uk/event/joint-burial-committee-2021-4-2/
LOCATION:Zoom\, United Kingdom
CATEGORIES:Council Meetings,Joint Burial Committee
ATTACH;FMTTYPE=image/jpeg:https://godalming-tc.gov.uk/wp-content/uploads/2020/05/Logo-JBC-Colour-e1588758722357.jpg
END:VEVENT
BEGIN:VEVENT
DTSTART;TZID=UTC:20210408T180000
DTEND;TZID=UTC:20210408T190000
DTSTAMP:20260421T144236
CREATED:20191003T103023Z
LAST-MODIFIED:20191003T103023Z
UID:10002064-1617904800-1617908400@godalming-tc.gov.uk
SUMMARY:Joint Burial Committee
DESCRIPTION:A meeting of the Committee that manages the town’s two cemeteries. \nIf you wish to speak at this meeting please contact Godalming Town Council on 01483 523575 or email of****@**************ov.uk \nIf you wish to watch the council meeting’s proceedings\, please go to Godalming Town Council’s Facebook page\, alternatively please contact of****@**************ov.uk by 5.00pm on 8 April 2021 for alternative options.
URL:https://godalming-tc.gov.uk/event/joint-burial-committee-2021-4-3/
LOCATION:Zoom\, United Kingdom
CATEGORIES:Council Meetings,Joint Burial Committee
ATTACH;FMTTYPE=image/jpeg:https://godalming-tc.gov.uk/wp-content/uploads/2020/05/Logo-JBC-Colour-e1588758722357.jpg
END:VEVENT
BEGIN:VEVENT
DTSTART;TZID=UTC:20210417T183000
DTEND;TZID=UTC:20210417T203000
DTSTAMP:20260421T144236
CREATED:20180103T100559Z
LAST-MODIFIED:20221122T095141Z
UID:10000922-1618684200-1618691400@godalming-tc.gov.uk
SUMMARY:Conservatoire Concerts - The Show Goes On!
DESCRIPTION:Conservatoire Concerts’ Last Online Concert! \nConservatoire Concerts invites you to their last online concert this Saturday\, 17 April\, at 6.30pm on their website presenting the Deste Piano Trio featuring Stefan Calleja (violin)\, Desiree Quintano (cello) and Stephanie Quintano (piano). \nThe Deste Piano Trio will play Beethoven’s Trio in B flat Major\, Op. 11 and Piazzolla’s Four Seasons of Buenos Aires. \nIf you would like to support these musicians visit our website where you can leave a contribution. \nAlternatively you can make a donation via BACS (please make sure you reference any donation with the word Godalming).  Bank details are: Account Number: 00030776 Sort Code 40-52-40). \nWe hope you can join us. \n \nFor more details\, please contact Suzanne Cacciottolo on 07940013314 or email Su*****************@***il.com \n 
URL:https://godalming-tc.gov.uk/event/conservatoire-concerts-the-show-goes-on-17-04-21/
LOCATION:Surrey
CATEGORIES:Concerts
ATTACH;FMTTYPE=image/jpeg:https://godalming-tc.gov.uk/wp-content/uploads/2019/05/Logo-Conservatoire-Concerts-e1556892318495.jpg
ORGANIZER;CN="Suzanne Cacciottolo":MAILTO:suzanne.cacciottolo@gmail.com
END:VEVENT
BEGIN:VEVENT
DTSTART;TZID=UTC:20210417T183000
DTEND;TZID=UTC:20210417T203000
DTSTAMP:20260421T144236
CREATED:20180103T100559Z
LAST-MODIFIED:20221122T095141Z
UID:10000966-1618684200-1618691400@godalming-tc.gov.uk
SUMMARY:Conservatoire Concerts - The Show Goes On!
DESCRIPTION:Conservatoire Concerts’ Last Online Concert! \nConservatoire Concerts invites you to their last online concert this Saturday\, 17 April\, at 6.30pm on their website presenting the Deste Piano Trio featuring Stefan Calleja (violin)\, Desiree Quintano (cello) and Stephanie Quintano (piano). \nThe Deste Piano Trio will play Beethoven’s Trio in B flat Major\, Op. 11 and Piazzolla’s Four Seasons of Buenos Aires. \nIf you would like to support these musicians visit our website where you can leave a contribution. \nAlternatively you can make a donation via BACS (please make sure you reference any donation with the word Godalming).  Bank details are: Account Number: 00030776 Sort Code 40-52-40). \nWe hope you can join us. \n \nFor more details\, please contact Suzanne Cacciottolo on 07940013314 or email Su*****************@***il.com \n 
URL:https://godalming-tc.gov.uk/event/conservatoire-concerts-the-show-goes-on-17-04-21-2/
LOCATION:Surrey
CATEGORIES:Concerts
ATTACH;FMTTYPE=image/jpeg:https://godalming-tc.gov.uk/wp-content/uploads/2019/05/Logo-Conservatoire-Concerts-e1556892318495.jpg
ORGANIZER;CN="Suzanne Cacciottolo":MAILTO:suzanne.cacciottolo@gmail.com
END:VEVENT
BEGIN:VEVENT
DTSTART;TZID=UTC:20210422T183000
DTEND;TZID=UTC:20210422T191500
DTSTAMP:20260421T144236
CREATED:20191003T094236Z
LAST-MODIFIED:20210121T092714Z
UID:10001965-1619116200-1619118900@godalming-tc.gov.uk
SUMMARY:Environment & Planning Committee
DESCRIPTION:A committee meeting to address and formulate policy for consideration by the Council to discharge the Council’s functions relating to the local environment and infrastructure. The agenda will be published the Monday before the meeting on our agendas and minutes page.
URL:https://godalming-tc.gov.uk/event/environment-planning-committee-2021-4-22/
LOCATION:Zoom\, United Kingdom
CATEGORIES:Council Meetings,Environment & Planning Committee
ATTACH;FMTTYPE=image/jpeg:https://godalming-tc.gov.uk/wp-content/uploads/2016/03/GTC-Crest-Colour-e1467132725337.jpg
ORGANIZER;CN="Godalming Town Council":MAILTO:office@godalming-tc.gov.uk
END:VEVENT
BEGIN:VEVENT
DTSTART;TZID=UTC:20210422T183000
DTEND;TZID=UTC:20210422T191500
DTSTAMP:20260421T144236
CREATED:20191003T094236Z
LAST-MODIFIED:20191003T094236Z
UID:10001966-1619116200-1619118900@godalming-tc.gov.uk
SUMMARY:Environment & Planning Committee
DESCRIPTION:A committee meeting to address and formulate policy for consideration by the Council to discharge the Council’s functions relating to the local environment and infrastructure. The agenda will be published the Monday before the meeting on our agendas and minutes page.
URL:https://godalming-tc.gov.uk/event/environment-planning-committee-2021-4-22-2/
LOCATION:Zoom\, United Kingdom
CATEGORIES:Council Meetings,Environment & Planning Committee
ATTACH;FMTTYPE=image/jpeg:https://godalming-tc.gov.uk/wp-content/uploads/2016/03/GTC-Crest-Colour-e1467132725337.jpg
ORGANIZER;CN="Godalming Town Council":MAILTO:office@godalming-tc.gov.uk
END:VEVENT
BEGIN:VEVENT
DTSTART;TZID=UTC:20210422T183000
DTEND;TZID=UTC:20210422T191500
DTSTAMP:20260421T144236
CREATED:20191003T094236Z
LAST-MODIFIED:20191003T094236Z
UID:10001967-1619116200-1619118900@godalming-tc.gov.uk
SUMMARY:Environment & Planning Committee
DESCRIPTION:A committee meeting to address and formulate policy for consideration by the Council to discharge the Council’s functions relating to the local environment and infrastructure. The agenda will be published the Monday before the meeting on our agendas and minutes page.
URL:https://godalming-tc.gov.uk/event/environment-planning-committee-2021-4-22-3/
LOCATION:Zoom\, United Kingdom
CATEGORIES:Council Meetings,Environment & Planning Committee
ATTACH;FMTTYPE=image/jpeg:https://godalming-tc.gov.uk/wp-content/uploads/2016/03/GTC-Crest-Colour-e1467132725337.jpg
ORGANIZER;CN="Godalming Town Council":MAILTO:office@godalming-tc.gov.uk
END:VEVENT
BEGIN:VEVENT
DTSTART;TZID=UTC:20210422T190000
DTEND;TZID=UTC:20210422T200000
DTSTAMP:20260421T144236
CREATED:20191003T095331Z
LAST-MODIFIED:20191003T095331Z
UID:10001993-1619118000-1619121600@godalming-tc.gov.uk
SUMMARY:Policy & Management Committee
DESCRIPTION:A committee meeting to consider matters relating to Town Council policy and the council’s resources. The agenda will be published the Monday before the meeting on our agendas and minutes page.
URL:https://godalming-tc.gov.uk/event/policy-management-committee-2021-4-2/
LOCATION:Zoom\, United Kingdom
CATEGORIES:Council Meetings,Policy & Management Committee
ATTACH;FMTTYPE=image/jpeg:https://godalming-tc.gov.uk/wp-content/uploads/2016/03/GTC-Crest-Colour-e1467132725337.jpg
ORGANIZER;CN="Godalming Town Council":MAILTO:office@godalming-tc.gov.uk
END:VEVENT
BEGIN:VEVENT
DTSTART;TZID=UTC:20210422T190000
DTEND;TZID=UTC:20210422T200000
DTSTAMP:20260421T144236
CREATED:20191003T095331Z
LAST-MODIFIED:20191003T095331Z
UID:10001994-1619118000-1619121600@godalming-tc.gov.uk
SUMMARY:Policy & Management Committee
DESCRIPTION:A committee meeting to consider matters relating to Town Council policy and the council’s resources. The agenda will be published the Monday before the meeting on our agendas and minutes page.
URL:https://godalming-tc.gov.uk/event/policy-management-committee-2021-4-3/
LOCATION:Zoom\, United Kingdom
CATEGORIES:Council Meetings,Policy & Management Committee
ATTACH;FMTTYPE=image/jpeg:https://godalming-tc.gov.uk/wp-content/uploads/2016/03/GTC-Crest-Colour-e1467132725337.jpg
ORGANIZER;CN="Godalming Town Council":MAILTO:office@godalming-tc.gov.uk
END:VEVENT
BEGIN:VEVENT
DTSTART;TZID=UTC:20210422T191500
DTEND;TZID=UTC:20210422T200000
DTSTAMP:20260421T144236
CREATED:20191003T095331Z
LAST-MODIFIED:20210121T092812Z
UID:10001992-1619118900-1619121600@godalming-tc.gov.uk
SUMMARY:Policy & Management Committee
DESCRIPTION:A committee meeting to consider matters relating to Town Council policy and the council’s resources. The agenda will be published the Monday before the meeting on our agendas and minutes page.
URL:https://godalming-tc.gov.uk/event/policy-management-committee-2021-4/
LOCATION:Zoom\, United Kingdom
CATEGORIES:Council Meetings,Policy & Management Committee
ATTACH;FMTTYPE=image/jpeg:https://godalming-tc.gov.uk/wp-content/uploads/2016/03/GTC-Crest-Colour-e1467132725337.jpg
ORGANIZER;CN="Godalming Town Council":MAILTO:office@godalming-tc.gov.uk
END:VEVENT
BEGIN:VEVENT
DTSTART;TZID=UTC:20210422T200000
DTEND;TZID=UTC:20210422T210000
DTSTAMP:20260421T144236
CREATED:20181127T124430Z
LAST-MODIFIED:20181127T124430Z
UID:10001669-1619121600-1619125200@godalming-tc.gov.uk
SUMMARY:Full Council (Extraordinary)
DESCRIPTION:A meeting of Godalming Town Council – a formal meeting to accept and ratify reports from each of the Council’s Committees.
URL:https://godalming-tc.gov.uk/event/full-council-extraordinary-2021-04-22/
LOCATION:Zoom\, United Kingdom
CATEGORIES:Council Meetings
ATTACH;FMTTYPE=image/jpeg:https://godalming-tc.gov.uk/wp-content/uploads/2016/03/GTC-Crest-Colour-e1467132725337.jpg
END:VEVENT
BEGIN:VEVENT
DTSTART;TZID=UTC:20210422T200000
DTEND;TZID=UTC:20210422T210000
DTSTAMP:20260421T144236
CREATED:20181127T124430Z
LAST-MODIFIED:20181127T124430Z
UID:10001661-1619121600-1619125200@godalming-tc.gov.uk
SUMMARY:Full Council (Extraordinary)
DESCRIPTION:A meeting of Godalming Town Council – a formal meeting to accept and ratify reports from each of the Council’s Committees.
URL:https://godalming-tc.gov.uk/event/full-council-extraordinary-2021-04-22-2/
LOCATION:Zoom\, United Kingdom
CATEGORIES:Council Meetings
ATTACH;FMTTYPE=image/jpeg:https://godalming-tc.gov.uk/wp-content/uploads/2016/03/GTC-Crest-Colour-e1467132725337.jpg
END:VEVENT
BEGIN:VEVENT
DTSTART;TZID=UTC:20210429T190000
DTEND;TZID=UTC:20210429T200000
DTSTAMP:20260421T144236
CREATED:20191003T101014Z
LAST-MODIFIED:20210121T092927Z
UID:10002027-1619722800-1619726400@godalming-tc.gov.uk
SUMMARY:Audit Committee
DESCRIPTION:A meeting of a Committee to consider the effectiveness of the Council’s risk management and audit arrangements. The agenda will be published the Monday before the meeting on our agendas and minutes page. \n 
URL:https://godalming-tc.gov.uk/event/audit-committee-2021-4/
LOCATION:Zoom\, United Kingdom
CATEGORIES:Audit Committee,Council Meetings
ATTACH;FMTTYPE=image/jpeg:https://godalming-tc.gov.uk/wp-content/uploads/2016/03/GTC-Crest-Colour-e1467132725337.jpg
END:VEVENT
BEGIN:VEVENT
DTSTART;TZID=UTC:20210429T190000
DTEND;TZID=UTC:20210429T200000
DTSTAMP:20260421T144236
CREATED:20191003T101014Z
LAST-MODIFIED:20191003T101014Z
UID:10002028-1619722800-1619726400@godalming-tc.gov.uk
SUMMARY:Audit Committee
DESCRIPTION:A meeting of a Committee to consider the effectiveness of the Council’s risk management and audit arrangements. The agenda will be published the Monday before the meeting on our agendas and minutes page. \n 
URL:https://godalming-tc.gov.uk/event/audit-committee-2021-4-2/
LOCATION:Zoom\, United Kingdom
CATEGORIES:Audit Committee,Council Meetings
ATTACH;FMTTYPE=image/jpeg:https://godalming-tc.gov.uk/wp-content/uploads/2016/03/GTC-Crest-Colour-e1467132725337.jpg
END:VEVENT
BEGIN:VEVENT
DTSTART;TZID=UTC:20210429T190000
DTEND;TZID=UTC:20210429T200000
DTSTAMP:20260421T144236
CREATED:20191003T101014Z
LAST-MODIFIED:20191003T101014Z
UID:10002029-1619722800-1619726400@godalming-tc.gov.uk
SUMMARY:Audit Committee
DESCRIPTION:A meeting of a Committee to consider the effectiveness of the Council’s risk management and audit arrangements. The agenda will be published the Monday before the meeting on our agendas and minutes page. \n 
URL:https://godalming-tc.gov.uk/event/audit-committee-2021-4-3/
LOCATION:Zoom\, United Kingdom
CATEGORIES:Audit Committee,Council Meetings
ATTACH;FMTTYPE=image/jpeg:https://godalming-tc.gov.uk/wp-content/uploads/2016/03/GTC-Crest-Colour-e1467132725337.jpg
END:VEVENT
END:VCALENDAR