BEGIN:VCALENDAR
VERSION:2.0
PRODID:-//Godalming Town Council - ECPv6.15.20//NONSGML v1.0//EN
CALSCALE:GREGORIAN
METHOD:PUBLISH
X-ORIGINAL-URL:https://godalming-tc.gov.uk
X-WR-CALDESC:Events for Godalming Town Council
REFRESH-INTERVAL;VALUE=DURATION:PT1H
X-Robots-Tag:noindex
X-PUBLISHED-TTL:PT1H
BEGIN:VTIMEZONE
TZID:Europe/London
BEGIN:DAYLIGHT
TZOFFSETFROM:+0000
TZOFFSETTO:+0100
TZNAME:BST
DTSTART:20250330T010000
END:DAYLIGHT
BEGIN:STANDARD
TZOFFSETFROM:+0100
TZOFFSETTO:+0000
TZNAME:GMT
DTSTART:20251026T010000
END:STANDARD
BEGIN:DAYLIGHT
TZOFFSETFROM:+0000
TZOFFSETTO:+0100
TZNAME:BST
DTSTART:20260329T010000
END:DAYLIGHT
BEGIN:STANDARD
TZOFFSETFROM:+0100
TZOFFSETTO:+0000
TZNAME:GMT
DTSTART:20261025T010000
END:STANDARD
BEGIN:DAYLIGHT
TZOFFSETFROM:+0000
TZOFFSETTO:+0100
TZNAME:BST
DTSTART:20270328T010000
END:DAYLIGHT
BEGIN:STANDARD
TZOFFSETFROM:+0100
TZOFFSETTO:+0000
TZNAME:GMT
DTSTART:20271031T010000
END:STANDARD
END:VTIMEZONE
BEGIN:VEVENT
DTSTART;TZID=Europe/London:20260808T100000
DTEND;TZID=Europe/London:20260808T160000
DTSTAMP:20260421T180642
CREATED:20260416T113207Z
LAST-MODIFIED:20260416T113411Z
UID:10004101-1786183200-1786204800@godalming-tc.gov.uk
SUMMARY:Antiques & Vintage Market inc Artist & Makers' Market
DESCRIPTION:[vc_row][vc_column][vc_column_text css=”” css_params=””]The Antiques & Vintage market is back on Saturday\, 8 August (10am-4pm) as part of staycation week with a huge array of interesting and affordable items from the regular stallholders you know and love and some additional ones set up in The High Street. \nIn addition\, we are incorporating a UK Artist and Makers’ Market in Church Street giving the opportunity for  local artists and makers to showcase their work and the public to meet the artist and purchase directly from them. \nWhat’s not to like……. a perfect opportunity to browse the stalls\, do some local shopping and relax with brunch\, lunch or afternoon tea….[/vc_column_text][/vc_column][/vc_row]
URL:https://godalming-tc.gov.uk/event/antiques-and-vintage-market-inc-artist-makers-market/
LOCATION:Godalming High Street\, GU7 1AQ
CATEGORIES:Markets
ATTACH;FMTTYPE=image/jpeg:https://godalming-tc.gov.uk/wp-content/uploads/2025/02/Logo-ACVR-Events.jpg
GEO:51.1852204;-0.6155631
END:VEVENT
END:VCALENDAR