BEGIN:VCALENDAR
VERSION:2.0
PRODID:-//Godalming Town Council - ECPv6.15.20//NONSGML v1.0//EN
CALSCALE:GREGORIAN
METHOD:PUBLISH
X-WR-CALNAME:Godalming Town Council
X-ORIGINAL-URL:https://godalming-tc.gov.uk
X-WR-CALDESC:Events for Godalming Town Council
REFRESH-INTERVAL;VALUE=DURATION:PT1H
X-Robots-Tag:noindex
X-PUBLISHED-TTL:PT1H
BEGIN:VTIMEZONE
TZID:Europe/London
BEGIN:DAYLIGHT
TZOFFSETFROM:+0000
TZOFFSETTO:+0100
TZNAME:BST
DTSTART:20220327T010000
END:DAYLIGHT
BEGIN:STANDARD
TZOFFSETFROM:+0100
TZOFFSETTO:+0000
TZNAME:GMT
DTSTART:20221030T010000
END:STANDARD
BEGIN:DAYLIGHT
TZOFFSETFROM:+0000
TZOFFSETTO:+0100
TZNAME:BST
DTSTART:20230326T010000
END:DAYLIGHT
BEGIN:STANDARD
TZOFFSETFROM:+0100
TZOFFSETTO:+0000
TZNAME:GMT
DTSTART:20231029T010000
END:STANDARD
BEGIN:DAYLIGHT
TZOFFSETFROM:+0000
TZOFFSETTO:+0100
TZNAME:BST
DTSTART:20240331T010000
END:DAYLIGHT
BEGIN:STANDARD
TZOFFSETFROM:+0100
TZOFFSETTO:+0000
TZNAME:GMT
DTSTART:20241027T010000
END:STANDARD
END:VTIMEZONE
BEGIN:VEVENT
DTSTART;TZID=Europe/London:20230611T150000
DTEND;TZID=Europe/London:20230611T170000
DTSTAMP:20260419T185907
CREATED:20230322T084204Z
LAST-MODIFIED:20230322T084207Z
UID:10002590-1686495600-1686502800@godalming-tc.gov.uk
SUMMARY:Music in the Park Dragonfly Office Interiors Concert
DESCRIPTION:Go Godalming Association presents this week’s Music in the Park concert featuring twentyfivemiles. \n\n\n\nMusic in the Park concerts take place every Sunday afternoon (unless otherwise stated) and run from 30 April through to 17 September 2023.  Please visit their website for more information. \n\n\n\nAll concerts are free – why not bring your own garden chairs and a picnic! \n\n\n\nIn the event of very wet weather\, concerts will be held in the nearby Godalming Parish Church. \n\n\n\nVoluntary donations are requested at concerts via collections run by volunteers.
URL:https://godalming-tc.gov.uk/event/music-in-the-park-dragonfly-office-interiors-concert/
LOCATION:Godalming Bandstand\, Phillips Memorial Park\, Godalming\, GU7 1HR\, United Kingdom
CATEGORIES:Live Music
ATTACH;FMTTYPE=image/jpeg:https://godalming-tc.gov.uk/wp-content/uploads/2023/03/Logo-Music-in-the-Park-2023-Small.jpg
ORGANIZER;CN="Go Godalming Association":MAILTO:secretary@gogodalming.org.uk
GEO:51.1871818;-0.6137577
X-APPLE-STRUCTURED-LOCATION;VALUE=URI;X-ADDRESS=Godalming Bandstand Phillips Memorial Park Godalming GU7 1HR United Kingdom;X-APPLE-RADIUS=500;X-TITLE=Phillips Memorial Park:geo:-0.6137577,51.1871818
END:VEVENT
BEGIN:VEVENT
DTSTART;TZID=Europe/London:20230604T150000
DTEND;TZID=Europe/London:20230604T170000
DTSTAMP:20260419T185907
CREATED:20230322T084049Z
LAST-MODIFIED:20230516T130513Z
UID:10002589-1685890800-1685898000@godalming-tc.gov.uk
SUMMARY:Music in the Park
DESCRIPTION:Go Godalming Association presents this week’s Music in the Park concert featuring the Horsham Borough Band. \n\n\n\nMusic in the Park concerts take place every Sunday afternoon (unless otherwise stated) and run from 30 April through to 17 September 2023. Please visit their website for more information. \n\n\n\nAll concerts are free – why not bring your own garden chairs and a picnic? \n\n\n\nIn the event of very wet weather\, concerts will be held in the nearby Godalming Parish Church. \n\n\n\nVoluntary donations are requested at concerts via collections run by volunteers. \n\n\n\n\n\n\n\n\n\n\n\n\n\n 
URL:https://godalming-tc.gov.uk/event/music-in-the-park-2/
LOCATION:Godalming Bandstand\, Phillips Memorial Park\, Godalming\, GU7 1HR\, United Kingdom
CATEGORIES:Live Music
ATTACH;FMTTYPE=image/jpeg:https://godalming-tc.gov.uk/wp-content/uploads/2023/03/Logo-Music-in-the-Park-2023-Small.jpg
ORGANIZER;CN="Go Godalming Association":MAILTO:secretary@gogodalming.org.uk
GEO:51.1871818;-0.6137577
X-APPLE-STRUCTURED-LOCATION;VALUE=URI;X-ADDRESS=Godalming Bandstand Phillips Memorial Park Godalming GU7 1HR United Kingdom;X-APPLE-RADIUS=500;X-TITLE=Phillips Memorial Park:geo:-0.6137577,51.1871818
END:VEVENT
BEGIN:VEVENT
DTSTART;TZID=Europe/London:20230602T180000
DTEND;TZID=Europe/London:20230602T200000
DTSTAMP:20260419T185907
CREATED:20230322T095709Z
LAST-MODIFIED:20230516T125837Z
UID:10002605-1685728800-1685736000@godalming-tc.gov.uk
SUMMARY:Music in the Park - Open Mike Sessions
DESCRIPTION:Go Godalming Association will be hosting Open Mike Sessions at the Godalming Bandstand on the first Friday of the month from June to September 2023. For more information\, contact the Go Godalming Association. \n\n\n\n  \n\n\n\n\n\n\n\n\n\n\n\n\n\n 
URL:https://godalming-tc.gov.uk/event/music-in-the-park-open-mike-sessions/2023-06-02/
LOCATION:Godalming Bandstand\, Phillips Memorial Park\, Godalming\, GU7 1HR\, United Kingdom
CATEGORIES:Live Music
ATTACH;FMTTYPE=image/jpeg:https://godalming-tc.gov.uk/wp-content/uploads/2023/03/Logo-Music-in-the-Park-2023-Small.jpg
ORGANIZER;CN="Go Godalming Association":MAILTO:secretary@gogodalming.org.uk
GEO:51.1871818;-0.6137577
X-APPLE-STRUCTURED-LOCATION;VALUE=URI;X-ADDRESS=Godalming Bandstand Phillips Memorial Park Godalming GU7 1HR United Kingdom;X-APPLE-RADIUS=500;X-TITLE=Phillips Memorial Park:geo:-0.6137577,51.1871818
END:VEVENT
BEGIN:VEVENT
DTSTART;TZID=Europe/London:20230528T150000
DTEND;TZID=Europe/London:20230528T170000
DTSTAMP:20260419T185907
CREATED:20230322T083940Z
LAST-MODIFIED:20230322T083943Z
UID:10002588-1685286000-1685293200@godalming-tc.gov.uk
SUMMARY:Music in the Park Go Godalming Association Concert
DESCRIPTION:Go Godalming Association presents this week’s Music in the Park concert featuring Squeezebox. \n\n\n\nMusic in the Park concerts take place every Sunday afternoon (unless otherwise stated) and run from 30 April through to 17 September 2023.  Please visit their website for more information. \n\n\n\nAll concerts are free – why not bring your own garden chairs and a picnic! \n\n\n\nIn the event of very wet weather\, concerts will be held in the nearby Godalming Parish Church. \n\n\n\nVoluntary donations are requested at concerts via collections run by volunteers.
URL:https://godalming-tc.gov.uk/event/music-in-the-park-go-godalming-association-concert/
LOCATION:Godalming Bandstand\, Phillips Memorial Park\, Godalming\, GU7 1HR\, United Kingdom
CATEGORIES:Live Music
ATTACH;FMTTYPE=image/jpeg:https://godalming-tc.gov.uk/wp-content/uploads/2023/03/Logo-Music-in-the-Park-2023-Small.jpg
ORGANIZER;CN="Go Godalming Association":MAILTO:secretary@gogodalming.org.uk
GEO:51.1871818;-0.6137577
X-APPLE-STRUCTURED-LOCATION;VALUE=URI;X-ADDRESS=Godalming Bandstand Phillips Memorial Park Godalming GU7 1HR United Kingdom;X-APPLE-RADIUS=500;X-TITLE=Phillips Memorial Park:geo:-0.6137577,51.1871818
END:VEVENT
BEGIN:VEVENT
DTSTART;TZID=Europe/London:20230521T150000
DTEND;TZID=Europe/London:20230521T170000
DTSTAMP:20260419T185907
CREATED:20230322T083828Z
LAST-MODIFIED:20230322T083830Z
UID:10002587-1684681200-1684688400@godalming-tc.gov.uk
SUMMARY:Music in the Park Whitleys Jewellers' Concert
DESCRIPTION:Go Godalming Association presents this week’s Music in the Park concert featuring Big and Brassy. \n\n\n\nMusic in the Park concerts take place every Sunday afternoon (unless otherwise stated) and run from 30 April through to 17 September 2023.  Please visit their website for more information. \n\n\n\nAll concerts are free – why not bring your own garden chairs and a picnic! \n\n\n\nIn the event of very wet weather\, concerts will be held in the nearby Godalming Parish Church. \n\n\n\nVoluntary donations are requested at concerts via collections run by volunteers.
URL:https://godalming-tc.gov.uk/event/music-in-the-park-whitleys-jewellers-concert/
LOCATION:Godalming Bandstand\, Phillips Memorial Park\, Godalming\, GU7 1HR\, United Kingdom
CATEGORIES:Live Music
ATTACH;FMTTYPE=image/jpeg:https://godalming-tc.gov.uk/wp-content/uploads/2023/03/Logo-Music-in-the-Park-2023-Small.jpg
ORGANIZER;CN="Go Godalming Association":MAILTO:secretary@gogodalming.org.uk
GEO:51.1871818;-0.6137577
X-APPLE-STRUCTURED-LOCATION;VALUE=URI;X-ADDRESS=Godalming Bandstand Phillips Memorial Park Godalming GU7 1HR United Kingdom;X-APPLE-RADIUS=500;X-TITLE=Phillips Memorial Park:geo:-0.6137577,51.1871818
END:VEVENT
BEGIN:VEVENT
DTSTART;TZID=Europe/London:20230514T150000
DTEND;TZID=Europe/London:20230514T170000
DTSTAMP:20260419T185907
CREATED:20230321T145058Z
LAST-MODIFIED:20230322T083638Z
UID:10002586-1684076400-1684083600@godalming-tc.gov.uk
SUMMARY:Music in the Park VantagePoint Concert
DESCRIPTION:Go Godalming Association presents this week’s Music in the Park concert featuring The Nefarious Picaroons. \n\n\n\nMusic in the Park concerts take place every Sunday afternoon (unless otherwise stated) and run from 30 April through to 17 September 2023.  Please visit their website for more information. \n\n\n\nAll concerts are free – why not bring your own garden chairs and a picnic! \n\n\n\nIn the event of very wet weather\, concerts will be held in the nearby Godalming Parish Church. \n\n\n\nVoluntary donations are requested at concerts via collections run by volunteers.
URL:https://godalming-tc.gov.uk/event/music-in-the-park-vantagepoint-concert/
LOCATION:Godalming Bandstand\, Phillips Memorial Park\, Godalming\, GU7 1HR\, United Kingdom
CATEGORIES:Live Music
ATTACH;FMTTYPE=image/jpeg:https://godalming-tc.gov.uk/wp-content/uploads/2023/03/Logo-Music-in-the-Park-2023-Small.jpg
ORGANIZER;CN="Go Godalming Association":MAILTO:secretary@gogodalming.org.uk
GEO:51.1871818;-0.6137577
X-APPLE-STRUCTURED-LOCATION;VALUE=URI;X-ADDRESS=Godalming Bandstand Phillips Memorial Park Godalming GU7 1HR United Kingdom;X-APPLE-RADIUS=500;X-TITLE=Phillips Memorial Park:geo:-0.6137577,51.1871818
END:VEVENT
BEGIN:VEVENT
DTSTART;TZID=Europe/London:20230507T123000
DTEND;TZID=Europe/London:20230507T190000
DTSTAMP:20260419T185907
CREATED:20230321T144146Z
LAST-MODIFIED:20230322T083035Z
UID:10002584-1683462600-1683486000@godalming-tc.gov.uk
SUMMARY:Music in the Park - Coronation Celebration
DESCRIPTION:Sponsored by Godalming Town Council this Coronation Celebration concert will feature The Godalming Band\, Godalming  College Band\, Rock  Choir and Cryin’ Out Loud.  \n\n\n\nMusic in the Park concerts take place every Sunday afternoon (unless otherwise stated) and run from 30 April through to 17 September 2023.  Please visit their website for more information. \n\n\n\nAll concerts are free – why not bring your own garden chairs and a picnic! \n\n\n\nIn the event of very wet weather\, concerts will be held in the nearby Godalming Parish Church. \n\n\n\nVoluntary donations are requested at concerts via collections run by volunteers.
URL:https://godalming-tc.gov.uk/event/music-in-the-park-coronation-celebration/
LOCATION:Godalming Bandstand\, Phillips Memorial Park\, Godalming\, GU7 1HR\, United Kingdom
CATEGORIES:Live Music
ATTACH;FMTTYPE=image/png:https://godalming-tc.gov.uk/wp-content/uploads/2023/03/Coronation-2023-Red-Blue-e1679409467963.png
ORGANIZER;CN="Go Godalming Association":MAILTO:secretary@gogodalming.org.uk
GEO:51.1871818;-0.6137577
X-APPLE-STRUCTURED-LOCATION;VALUE=URI;X-ADDRESS=Godalming Bandstand Phillips Memorial Park Godalming GU7 1HR United Kingdom;X-APPLE-RADIUS=500;X-TITLE=Phillips Memorial Park:geo:-0.6137577,51.1871818
END:VEVENT
BEGIN:VEVENT
DTSTART;TZID=Europe/London:20230430T150000
DTEND;TZID=Europe/London:20230430T170000
DTSTAMP:20260419T185907
CREATED:20230321T142555Z
LAST-MODIFIED:20230322T082709Z
UID:10002583-1682866800-1682874000@godalming-tc.gov.uk
SUMMARY:Music in the Park - May Day Celebrations
DESCRIPTION:Go Godalming Association presents its first Music in the Park concert of the season for this May Day Celebration featuring Stockbrokers Belt Ceilidh Band with the Fleur de Lys Morris Dancers. \n\n\n\nMusic in the Park concerts take place every Sunday afternoon (unless otherwise stated) and run from 30 April through to 17 September 2023.  Please visit their website for more information. \n\n\n\nAll concerts are free – why not bring your own garden chairs and a picnic! \n\n\n\nIn the event of very wet weather\, concerts will be held in the nearby Godalming Parish Church. \n\n\n\nVoluntary donations are requested at concerts via collections run by volunteers.
URL:https://godalming-tc.gov.uk/event/music-in-the-park-may-day-celebrations/
LOCATION:Godalming Bandstand\, Phillips Memorial Park\, Godalming\, GU7 1HR\, United Kingdom
CATEGORIES:Live Music
ATTACH;FMTTYPE=image/jpeg:https://godalming-tc.gov.uk/wp-content/uploads/2023/03/Logo-Music-in-the-Park-2023-Small.jpg
ORGANIZER;CN="Go Godalming Association":MAILTO:secretary@gogodalming.org.uk
GEO:51.1871818;-0.6137577
X-APPLE-STRUCTURED-LOCATION;VALUE=URI;X-ADDRESS=Godalming Bandstand Phillips Memorial Park Godalming GU7 1HR United Kingdom;X-APPLE-RADIUS=500;X-TITLE=Phillips Memorial Park:geo:-0.6137577,51.1871818
END:VEVENT
END:VCALENDAR